    BEGIN:VCALENDAR
VERSION:2.0
PRODID:-//Orte der Erinnerung 1933 - 1945 - ECPv6.15.11//NONSGML v1.0//EN
CALSCALE:GREGORIAN
METHOD:PUBLISH
X-WR-CALNAME:Orte der Erinnerung 1933 - 1945
X-ORIGINAL-URL:https://www.orte-der-erinnerung.de
X-WR-CALDESC:Veranstaltungen für Orte der Erinnerung 1933 - 1945
REFRESH-INTERVAL;VALUE=DURATION:PT1H
X-Robots-Tag:noindex
X-PUBLISHED-TTL:PT1H
BEGIN:VTIMEZONE
TZID:UTC
BEGIN:STANDARD
TZOFFSETFROM:+0000
TZOFFSETTO:+0000
TZNAME:UTC
DTSTART:20170101T000000
END:STANDARD
END:VTIMEZONE
BEGIN:VEVENT
DTSTART;TZID=UTC:20180906T193000
DTEND;TZID=UTC:20180906T193000
DTSTAMP:20260421T123324
CREATED:20180730T082524Z
LAST-MODIFIED:20180730T082712Z
UID:2896-1536262200-1536262200@www.orte-der-erinnerung.de
SUMMARY:»Weiterleben ohne Wenn und Aber« – Buchvorstellung mit Giselle Cycowicz und Sabine Adler
DESCRIPTION:Als junges Mädchen las Giselle Cycowicz »Die Heilung durch den Geist« von Stefan Zweig. Sie war elektrisiert und wollte eines Tages bei Patienten Traumata zutage fördern\, um sie zu heilen. Doch die Nazis deportierten sie samt ihrer Familie 1944 in das Vernichtungslager Auschwitz-Birkenau. Der Vater wurde ermordet\, ihre Schwester und sie überlebten\, gingen in die USA und bauten sich ein neues Leben auf. Erst im Alter von 44 Jahren verwirklichte Giselle Cycowicz ihren Plan und studierte am Brooklyn College Psychologie. Mit über 90 praktiziert sie heute noch immer und kümmert sich in Israel als Traumatherapeutin um Holocaust-Überlebende und ihre Nachkommen. \nSabine Adler beschreibt in ihrem Buch die bewegende Geschichte dieser faszinierenden Frau und die ihrer Patientinnen. Giselle Cycowicz sagt über das Buch: »Die Welt soll davon erfahren\, und die Patienten sollen spüren\, dass sich die Welt für sie interessiert.« \n  \nPROGRAMM \nBegrüßung\nFranziska Günther\, Verlagsleitung Aufbau Sachbuch \nGespräch\nGiselle Cycowicz und Sabine Adler\, Deutschlandfunk \nModeration\nRalf Fuecks\, Zentrum Liberale Moderne \n  \nEintritt: 10 Euro (VVK) // 12 Euro (AK)
URL:https://www.orte-der-erinnerung.de/veranstaltung/weiterleben-ohne-wenn-und-aber-buchvorstellung-mit-giselle-cycowicz-und-sabine-adler/
LOCATION:Kulturbrauerei\, Maschinenhaus\, Schönhauser Allee 36\, Berlin\, 10435
CATEGORIES:Buchpräsentation
ORGANIZER;CN="aufbau Verlag":MAILTO:veranstaltungen@aufbau-verlag.de
END:VEVENT
END:VCALENDAR