    BEGIN:VCALENDAR
VERSION:2.0
PRODID:-//Orte der Erinnerung 1933 - 1945 - ECPv6.15.11//NONSGML v1.0//EN
CALSCALE:GREGORIAN
METHOD:PUBLISH
X-ORIGINAL-URL:https://www.orte-der-erinnerung.de
X-WR-CALDESC:Veranstaltungen für Orte der Erinnerung 1933 - 1945
REFRESH-INTERVAL;VALUE=DURATION:PT1H
X-Robots-Tag:noindex
X-PUBLISHED-TTL:PT1H
BEGIN:VTIMEZONE
TZID:Europe/Berlin
BEGIN:DAYLIGHT
TZOFFSETFROM:+0100
TZOFFSETTO:+0200
TZNAME:CEST
DTSTART:20210328T010000
END:DAYLIGHT
BEGIN:STANDARD
TZOFFSETFROM:+0200
TZOFFSETTO:+0100
TZNAME:CET
DTSTART:20211031T010000
END:STANDARD
BEGIN:DAYLIGHT
TZOFFSETFROM:+0100
TZOFFSETTO:+0200
TZNAME:CEST
DTSTART:20220327T010000
END:DAYLIGHT
BEGIN:STANDARD
TZOFFSETFROM:+0200
TZOFFSETTO:+0100
TZNAME:CET
DTSTART:20221030T010000
END:STANDARD
BEGIN:DAYLIGHT
TZOFFSETFROM:+0100
TZOFFSETTO:+0200
TZNAME:CEST
DTSTART:20230326T010000
END:DAYLIGHT
BEGIN:STANDARD
TZOFFSETFROM:+0200
TZOFFSETTO:+0100
TZNAME:CET
DTSTART:20231029T010000
END:STANDARD
END:VTIMEZONE
BEGIN:VEVENT
DTSTART;TZID=Europe/Berlin:20220627T140000
DTEND;TZID=Europe/Berlin:20220627T140000
DTSTAMP:20260421T124821
CREATED:20220525T112418Z
LAST-MODIFIED:20220525T112418Z
UID:6326-1656338400-1656338400@www.orte-der-erinnerung.de
SUMMARY:„Demokratische Aufbrüche im Berliner Stadtraum sichtbar machen“
DESCRIPTION:Der Fachtag lädt interessierte Menschen dazu ein\, sich über die (Un-)Sichtbarkeit von Orten der Demokratiegeschichte in Berlin auszutauschen. Die Veranstaltung steht im Zusammenhang mit dem Vorschlag\, dezentral in Berlin\, an insgesamt 48 Schauplätzen der Demokratiegeschichte\, Erinnerungszeichen zu errichten. Sie sollen auf die historischen Ereignisse hinweisen\, der Information dienen und Gesprächsanlass für Anwohner:innen\, Tourist:innen und Schulklassen sein. \nDer Fachtag ist eine Kooperationsveranstaltung der Berliner Landeszentrale für politische Bildung mit dem Aktiven Museum Faschismus und Widerstand in Berlin e.V. und dem Gedenkort Friedhof der Märzgefallenen/Paul Singer e.V. \nGastgeberin und Veranstaltungsort ist die Gedenkstätte Deutscher Widerstand\, Stauffenbergstr. 13-14\, 10785 Berlin. \nNähere Informationen zum Programm und die Möglichkeit zur Anmeldung finden Sie unter diesem Link.
URL:https://www.orte-der-erinnerung.de/veranstaltung/demokratische-aufbrueche-im-berliner-stadtraum-sichtbar-machen/
LOCATION:Gedenkstätte Deutscher Widerstand\, Stauffenbergstraße 13/14\, Berlin\, 10785\, Deutschland
CATEGORIES:Diskussion
ORGANIZER;CN="Berliner Landeszentrale f%C3%BCr politische Bildung":MAILTO:anja.witzel@senbjf.berlin.de
END:VEVENT
END:VCALENDAR