    BEGIN:VCALENDAR
VERSION:2.0
PRODID:-//Orte der Erinnerung 1933 - 1945 - ECPv6.15.11//NONSGML v1.0//EN
CALSCALE:GREGORIAN
METHOD:PUBLISH
X-WR-CALNAME:Orte der Erinnerung 1933 - 1945
X-ORIGINAL-URL:https://www.orte-der-erinnerung.de
X-WR-CALDESC:Veranstaltungen für Orte der Erinnerung 1933 - 1945
REFRESH-INTERVAL;VALUE=DURATION:PT1H
X-Robots-Tag:noindex
X-PUBLISHED-TTL:PT1H
BEGIN:VTIMEZONE
TZID:Europe/Berlin
BEGIN:DAYLIGHT
TZOFFSETFROM:+0100
TZOFFSETTO:+0200
TZNAME:CEST
DTSTART:20200329T010000
END:DAYLIGHT
BEGIN:STANDARD
TZOFFSETFROM:+0200
TZOFFSETTO:+0100
TZNAME:CET
DTSTART:20201025T010000
END:STANDARD
BEGIN:DAYLIGHT
TZOFFSETFROM:+0100
TZOFFSETTO:+0200
TZNAME:CEST
DTSTART:20210328T010000
END:DAYLIGHT
BEGIN:STANDARD
TZOFFSETFROM:+0200
TZOFFSETTO:+0100
TZNAME:CET
DTSTART:20211031T010000
END:STANDARD
BEGIN:DAYLIGHT
TZOFFSETFROM:+0100
TZOFFSETTO:+0200
TZNAME:CEST
DTSTART:20220327T010000
END:DAYLIGHT
BEGIN:STANDARD
TZOFFSETFROM:+0200
TZOFFSETTO:+0100
TZNAME:CET
DTSTART:20221030T010000
END:STANDARD
END:VTIMEZONE
BEGIN:VEVENT
DTSTART;TZID=Europe/Berlin:20210413T190000
DTEND;TZID=Europe/Berlin:20210413T190000
DTSTAMP:20260422T131057
CREATED:20210331T080211Z
LAST-MODIFIED:20210331T080315Z
UID:5872-1618340400-1618340400@www.orte-der-erinnerung.de
SUMMARY:ONLINE: »Ausschaltung der Juden und des jüdischen Geistes«. Nationalsozialistische Kulturpolitik 1920–1945
DESCRIPTION:Bereits im Februar 1920 forderte die NSDAP den Kampf gegen eine »zersetzende« Kunst und Literatur und den Ausschluss von Juden aus dem Journalistenberuf. Das grundsätzliche Ziel lautete: Alle Juden und alles »Jüdische« sollten aus dem deutschen Kulturleben entfernt werden.\nIn seinem Buch über die »Ausschaltung der Juden und des jüdischen Geistes«. Nationalsozialistische Kulturpolitik 1920–1945 (2020) untersucht Jörg Osterloh den Ausschluss von Jüdinnen und Juden aus Kunst\, Musik\, Literatur\, Theater und Film – von der Gründung der NSDAP bis zur Ermordung jüdischer Künstler im Holocaust. Dabei spannt er den Bogen von der frühen antijüdischen Propaganda und den ersten Allianzen der NSDAP mit bürgerlichkonservativen Parteien in Stadträten bis zur Umsetzung der kulturpolitischen Ziele der NSDAP in der Regierungsverantwortung\, zunächst ab 1930 auf Länder-\, schließlich ab 1933 auf Reichsebene. Neben den Institutionen des NS-Staats gilt der Blick auch dem Jüdischen Kulturbund\, der jüdischen Künstlerinnen und Künstlern Auftritts- und Verdienstmöglichkeiten und Darbietungen für ein jüdisches Publikum bot. \n  \nPROGRAMM \nVortrag\nDr. Jörg Osterloh\, Frankfurt/Main \nModeration\nDr. Christoph Kreutzmüller\, Berlin \n  \nJörg Osterloh\, 1967 geboren\, ist wissenschaftlicher Mitarbeiter am Fritz Bauer Institut und Lehrbeauftragter an der Goethe-Universität Frankfurt am Main. Zu seinen Publikationen gehören Nationalsozialistische Judenverfolgung im Reichsgau Sudetenland 1938–1945 (2006)\, NS-Prozesse und deutsche Öffentlichkeit. Besatzungszeit\, frühe Bundesrepublik und DDR (2011\, Mithg.)\, »… der schrankenlosesten Willkür ausgeliefert«. Häftlinge der frühen Konzentrationslager 1933–1936/37 (2017\, Mithg.) und Der Holocaust. Neue Studien zu Tathergängen\, Reaktionen und Aufarbeitungen (2017\, Mithg.). \nChristoph Kreutzmüller\, 1968 geboren\, ist wissenschaftlicher Mitarbeiter der Gedenk- und Bildungsstätte Haus der Wannsee-Konferenz. \n  \nEine Veranstaltung im Rahmen des Festjahrs »1700 Jahre jüdisches Leben in Deutschland«\, gemeinsam mit dem Fritz Bauer Institut und der Gedenk- und Bildungsstätte Haus der Wannsee-Konferenz. \n  \nDie Buchvorstellung wird als Livestream unter www.topographie.de/livestream/ übertragen. Eine Teilnahme vor Ort ist nicht möglich.
URL:https://www.orte-der-erinnerung.de/veranstaltung/online-ausschaltung-der-juden-und-des-juedischen-geistes-nationalsozialistische-kulturpolitik-1920-1945/
LOCATION:Online Veranstaltung\, Den Link zur Veranstaltung finden Sie im Beschreibungstext.
CATEGORIES:Buchpräsentation
ORGANIZER;CN="Stiftung Topographie des Terrors":MAILTO:info@topographie.de
END:VEVENT
END:VCALENDAR