    BEGIN:VCALENDAR
VERSION:2.0
PRODID:-//Orte der Erinnerung 1933 - 1945 - ECPv6.15.11//NONSGML v1.0//EN
CALSCALE:GREGORIAN
METHOD:PUBLISH
X-ORIGINAL-URL:https://www.orte-der-erinnerung.de
X-WR-CALDESC:Veranstaltungen für Orte der Erinnerung 1933 - 1945
REFRESH-INTERVAL;VALUE=DURATION:PT1H
X-Robots-Tag:noindex
X-PUBLISHED-TTL:PT1H
BEGIN:VTIMEZONE
TZID:UTC
BEGIN:STANDARD
TZOFFSETFROM:+0000
TZOFFSETTO:+0000
TZNAME:UTC
DTSTART:20170101T000000
END:STANDARD
END:VTIMEZONE
BEGIN:VEVENT
DTSTART;TZID=UTC:20180614T190000
DTEND;TZID=UTC:20180614T190000
DTSTAMP:20260421T220757
CREATED:20180518T125918Z
LAST-MODIFIED:20180518T131459Z
UID:2382-1529002800-1529002800@www.orte-der-erinnerung.de
SUMMARY:Für Frieden\, Freiheit und Demokratie: Über die Gründung des Reichsbundes durch Erich Kuttner und die Entwicklung zum Sozialverband SoVD
DESCRIPTION:Auf Initiative des verwundeten Weltkriegssoldaten Erich Kuttner wurde 1917 in Berlin der »Bund der Kriegsbeschädigten und Kriegsteilnehmer« gegründet. Aus ihm erwuchs der Sozialverband Deutschland (SoVD). Es ging dem Gründervater von Beginn an nicht allein um soziale Leistungen. Er wollte auch wachhalten\, was moderner Krieg bedeutet. Deshalb setzte sich die neue Kriegsopferorganisation gleich zu Beginn für die erste deutsche Demokratie\, die Weimarer Republik\, ein. Und dies bedeutete harte Auseinandersetzungen mit ihren Gegnern. Nach der Machtübernahme der Nationalsozialisten leistete Kuttner\, der auch Jude war\, Widerstand\, zunächst als Emigrant in den Niederlanden\, später als Korrespondent im Spanischen Bürgerkrieg. 1942 wurde er von der Gestapo festgenommen und ein halbes Jahr darauf im KZ Mauthausen ermordet. Die Idee Kuttners lebt jedoch weiter: Schon kurz nach dem Ende des Zweiten Weltkriegs nahm der von ihm gegründete Sozialverband die Arbeit wieder auf und gestaltet bis heute das politische und gesellschaftliche Leben in Deutschland mit. \n  \nPROGRAMM \nIn seinem Kurzvortrag wird Adolf Bauer\, Präsident des SoVD\, die über 100-jährige Geschichte des Sozialverbandes Revue passieren lassen. Anschließend wird der Kurzfilm »Erich Kuttner gründet den SoVD« gezeigt. Dem Leben und Wirken des Widerstandskämpfers Erich Kuttner wird sich der Berliner Historiker Dr. Kurt Schilde in seinem Vortrag widmen. \n  \nDie Veranstaltung findet in der Gedenkstätte Deutscher Widerstand\, Zweite Etage\, Saal 2B statt. \nWegen der begrenzten Platzzahl bitten wir Sie um Anmeldung bis zum 10. Juni 2018 per E-Mail: veranstaltung@gdw-berlin.de oder Telefon: (030) 26 99 50 00.
URL:https://www.orte-der-erinnerung.de/veranstaltung/fuer-frieden-freiheit-und-demokratie-ueber-die-gruendung-des-reichsbundes-durch-erich-kuttner-und-die-entwicklung-zum-sozialverband-sovd/
LOCATION:Gedenkstätte Deutscher Widerstand\, Stauffenbergstraße 13/14\, Berlin\, 10785\, Deutschland
CATEGORIES:Film,Vortrag
ORGANIZER;CN="Gedenkst%C3%A4tte Deutscher Widerstand":MAILTO:veranstaltung@gdw-berlin.de
END:VEVENT
BEGIN:VEVENT
DTSTART;TZID=UTC:20180602T200000
DTEND;TZID=UTC:20180602T200000
DTSTAMP:20260421T220757
CREATED:20180427T072233Z
LAST-MODIFIED:20180427T072616Z
UID:2106-1527969600-1527969600@www.orte-der-erinnerung.de
SUMMARY:»Mag sein\, daß der Jüngste Tag morgen anbricht…« Widerstand in Berlin von der Reichspogromnacht bis Kriegsende
DESCRIPTION:»Mag sein\, daß der Jüngste Tag morgen anbricht\, dann wollen wir gern die Arbeit für eine bessere Zukunft aus der Hand legen\, vorher aber nicht.«\nDietrich Bonhoeffer \n  \nSzenische Lesung mit Musik\nmit Domorganist Andreas Sieling\, Studierenden der Hochschule für Schauspielkunst Ernst Busch sowie Matthias Brandt und Martina Gedeck \n  \nAn diesem Abend in der Predigtkirche des Berliner Doms\, der dem deutschen Widerstand in seiner ganzen Bandbreite gewidmet ist\, kommen unterschiedlichste Menschen zu Wort\, von dem konservativen Diplomaten Ulrich von Hassell bis hin zur jungen Liane Berkowitz\, die der sogenannten Roten Kapelle angehörte. \nZwei Akteure und wichtige Chronisten des oppositionellen Geschehens sind immer wieder zu hören: Die Journalistin Ruth Andreas-Friedrich (Martina Gedeck) mit ihrem beeindruckenden Tagebuch »Der Schattenmann« sowie Helmuth James von Moltke\n(Matthias Brandt)\, der über Jahre eine bewegende\, sehr direkte Korrespondenz mit seiner Frau Freya geführt hat. \nIn zahlreichen weiteren Rollen treten Studierende der Ernst Busch Hochschule auf. Die musikalische Begleitung\, teils frei improvisiert\, übernimmt der Domorganist Andreas Sieling. So entsteht ein eindrückliches Wort- und Klangbild zu Ehren der vielen Menschen\, die in Berlin\, in Deutschland den Mut fanden\, Widerstand zu leisten. \n  \nDer Eintritt ist frei.\nKartenreservierung erforderlich unter Tel.: 030-20269136 oder info@berlinerdom.de.
URL:https://www.orte-der-erinnerung.de/veranstaltung/mag-sein-dass-der-juengste-tag-morgen-anbricht-widerstand-in-berlin-von-der-reichspogromnacht-bis-kriegsende/
LOCATION:Berliner Dom\, Am Lustgarten\, Berlin\, 10178
CATEGORIES:Konzert,Lesung
ORGANIZER;CN="Berliner Dom":MAILTO:info@berlinerdom.de
END:VEVENT
BEGIN:VEVENT
DTSTART;TZID=UTC:20180504T190000
DTEND;TZID=UTC:20180504T190000
DTSTAMP:20260421T220757
CREATED:20180427T052649Z
LAST-MODIFIED:20180427T053318Z
UID:2048-1525460400-1525460400@www.orte-der-erinnerung.de
SUMMARY:Prof. Dr. Peter Steinbach: Leben wir jetzt in den guten alten Zeiten\, nach denen wir uns in zehn Jahren zurücksehnen werden?
DESCRIPTION:Kommentar\nProf. Dr. Habbo Knoch (Universität Köln) \nModeration\nProf. Dr. Horst-Alfred Heinrich (Universität Passau) \nWenn man behauptete\, ohne Herkunft gäbe es keine Zukunft\, wurde ein Zusammenhang zwischen Geschichtsdeutung\, Gegenwartsbezug und Zukunftsprogrammatik hergestellt. Immer wurde unterstellt\, dass Geschichte Identifikation ermögliche. Die Auseinandersetzung mit der NS-Zeit mündete in eine kritische\, selbstreflexive Deutung nicht nur der kollektiven und nationalen\, sondern auch der individuellen Geschichte. Geschichtsdebatten machten dies zunehmend deutlicher. Mit den Umdeutungen der Vergangenheit seit 2015 geht es um eine neue Dimension\, denn nun wird es fraglich\, ob die Auseinandersetzung mit der Zeitgeschichte der humanen Orientierung dienen soll oder in ein nicht ausdiskutiertes Verständnis historisch geprägter sogenannter Leitkultur überführt wird. \nUniv.-Prof. em. Dr. Peter Steinbach (Universität Mannheim) ist seit 1989 wissenschaftlicher Leiter der Gedenkstätte Deutscher Widerstand. \n  \nVeranstaltungsraum: Zweite Etage\, Saal 2B. Wegen der begrenzten Platzzahl bitten wir Sie um Anmeldung unter veranstaltung@gdw-berlin.de oder telefonisch unter 030 26 99 50 00. \nWir würden uns sehr freuen\, Sie bei dieser Veranstaltung begrüßen zu dürfen. \n 
URL:https://www.orte-der-erinnerung.de/veranstaltung/prof-dr-peter-steinbach-leben-wir-jetzt-in-den-guten-alten-zeiten-nach-denen-wir-uns-in-zehn-jahren-zuruecksehnen-werden/
LOCATION:Gedenkstätte Deutscher Widerstand\, Stauffenbergstraße 13/14\, Berlin\, 10785\, Deutschland
CATEGORIES:Gespräch,Vortrag
ORGANIZER;CN="Gedenkst%C3%A4tte Deutscher Widerstand":MAILTO:veranstaltung@gdw-berlin.de
END:VEVENT
BEGIN:VEVENT
DTSTART;TZID=UTC:20180329T190000
DTEND;TZID=UTC:20180329T190000
DTSTAMP:20260421T220757
CREATED:20180223T144035Z
LAST-MODIFIED:20180223T144035Z
UID:1658-1522350000-1522350000@www.orte-der-erinnerung.de
SUMMARY:Der Rote Stoßtrupp. Eine frühe linkssozialistische Widerstandsgruppe gegen den Nationalsozialismus
DESCRIPTION:Dennis Egginger-Gonzazlez: Der Rote Stoßtrupp. Eine frühe linkssozialistische Widerstandsgruppe gegen den Nationalsozialismus \nDie zeitweilig bis zu fünfhundert Personen umfassende Widerstandsgruppe Roter Stoßtrupp war aufgrund ihrer Bündnispolitik und Existenzdauer durchaus bedeutend\, ist aber heute nahezu vergessen. Ein Grund dafür mag sein\, dass sie weder in Ost- noch in Westdeutschland ins Grundmuster der praktizierten Erinnerungskultur passte.\n1932 von jungen Sozialdemokraten gegründet\, entwickelte sich der Rote Stoßtrupp binnen weniger Monate zu einer exzellent vernetzten linkssozialistischen Sammlungsbewegung. Trotz intensiver Verfolgung durch die Gestapo gelang es\, eine der damals meistgelesenen Widerstandspublikationen herauszugeben. Und obgleich infolge Verhaftung und Verurteilung zahlreicher Mitglieder geschwächt\, konnte die illegale Arbeit auch nach 1933 in Nachfolgeorganisationen noch über ein Jahrzehnt lang aufrechterhalten werden. \nMit seiner präzisen Auswertung und Darstellung von umfangreichem Archivmaterial\, über zweihundert Kurzbiografien und wiederentdeckten schriftlichen Zeugnissen vermag Dennis Egginger-Gonzazle die wichtige Rolle des Roten Stoßtrupps im Gesamtspektrum des deutschen Widerstands gegen den Nationalsozialismus zu belegen. \nSeine Studie ist in diesem Jahr beim Lukas Verlag erschienen\, hat 794 Seiten und kostet 34\,90€. \nWegen der begrenzten Platzzahl bitten wir Sie um Anmeldung bis zum 23. März 2018 per E-Mail: veranstaltung@gdw-berlin.de oder Telefon: (030) 26 99 50 00.
URL:https://www.orte-der-erinnerung.de/veranstaltung/der-rote-stosstrupp-eine-fruehe-linkssozialistische-widerstandsgruppe-gegen-den-nationalsozialismus/
LOCATION:Gedenkstätte Deutscher Widerstand\, Stauffenbergstraße 13/14\, Berlin\, 10785\, Deutschland
CATEGORIES:Buchpräsentation
ORGANIZER;CN="Gedenkst%C3%A4tte Deutscher Widerstand":MAILTO:veranstaltung@gdw-berlin.de
END:VEVENT
END:VCALENDAR