    BEGIN:VCALENDAR
VERSION:2.0
PRODID:-//Orte der Erinnerung 1933 - 1945 - ECPv6.15.11//NONSGML v1.0//EN
CALSCALE:GREGORIAN
METHOD:PUBLISH
X-ORIGINAL-URL:https://www.orte-der-erinnerung.de
X-WR-CALDESC:Veranstaltungen für Orte der Erinnerung 1933 - 1945
REFRESH-INTERVAL;VALUE=DURATION:PT1H
X-Robots-Tag:noindex
X-PUBLISHED-TTL:PT1H
BEGIN:VTIMEZONE
TZID:Europe/Berlin
BEGIN:DAYLIGHT
TZOFFSETFROM:+0100
TZOFFSETTO:+0200
TZNAME:CEST
DTSTART:20190331T010000
END:DAYLIGHT
BEGIN:STANDARD
TZOFFSETFROM:+0200
TZOFFSETTO:+0100
TZNAME:CET
DTSTART:20191027T010000
END:STANDARD
BEGIN:DAYLIGHT
TZOFFSETFROM:+0100
TZOFFSETTO:+0200
TZNAME:CEST
DTSTART:20200329T010000
END:DAYLIGHT
BEGIN:STANDARD
TZOFFSETFROM:+0200
TZOFFSETTO:+0100
TZNAME:CET
DTSTART:20201025T010000
END:STANDARD
BEGIN:DAYLIGHT
TZOFFSETFROM:+0100
TZOFFSETTO:+0200
TZNAME:CEST
DTSTART:20210328T010000
END:DAYLIGHT
BEGIN:STANDARD
TZOFFSETFROM:+0200
TZOFFSETTO:+0100
TZNAME:CET
DTSTART:20211031T010000
END:STANDARD
END:VTIMEZONE
BEGIN:VEVENT
DTSTART;TZID=Europe/Berlin:20200227T183000
DTEND;TZID=Europe/Berlin:20200227T183000
DTSTAMP:20260421T124646
CREATED:20200217T130846Z
LAST-MODIFIED:20200217T131052Z
UID:4971-1582828200-1582828200@www.orte-der-erinnerung.de
SUMMARY:Plötzenseer Abend: »Zwei deutsche Diktaturen im 20. Jahrhundert auf deutschem Boden – Christen im Widerstand«
DESCRIPTION:PROGRAMM \n18.30 Uhr\nÖkumenisches Friedensgebet\nKath. Gedenkkirche Maria Regina Martyrum\, Heckerdamm 230\, 13627 Berlin\n \n  \n19.30 Uhr\nVortrag von Dr. Axel Smend: »Zwei deutsche Diktaturen im 20. Jahrhundert auf deutschem Boden – Christen im Widerstand«\nEv. Gedenkkirche Plötzensee\, Heckerdamm 226\, 13627 Berlin \n  \nAxel Smend\, geboren 1944\, ist Kuratoriumsvorsitzender der Stiftung 20. Juli 1944. Er ist ein Sohn des Widerstandskämpfers Günther Smend (*29. November 1912; †8. September 1944 in Berlin-Plötzensee).
URL:https://www.orte-der-erinnerung.de/veranstaltung/ploetzenseer-abend-zwei-deutsche-diktaturen-im-20-jahrhundert-auf-deutschem-boden-christen-im-widerstand/
LOCATION:Ev. Gedenkkirche Plötzensee\, Heckerdamm 226\, Berlin\, 13627\, Deutschland
CATEGORIES:Gottesdienst,Vortrag
END:VEVENT
END:VCALENDAR