    BEGIN:VCALENDAR
VERSION:2.0
PRODID:-//Orte der Erinnerung 1933 - 1945 - ECPv6.15.11//NONSGML v1.0//EN
CALSCALE:GREGORIAN
METHOD:PUBLISH
X-WR-CALNAME:Orte der Erinnerung 1933 - 1945
X-ORIGINAL-URL:https://www.orte-der-erinnerung.de
X-WR-CALDESC:Veranstaltungen für Orte der Erinnerung 1933 - 1945
REFRESH-INTERVAL;VALUE=DURATION:PT1H
X-Robots-Tag:noindex
X-PUBLISHED-TTL:PT1H
BEGIN:VTIMEZONE
TZID:Europe/Berlin
BEGIN:DAYLIGHT
TZOFFSETFROM:+0100
TZOFFSETTO:+0200
TZNAME:CEST
DTSTART:20170326T010000
END:DAYLIGHT
BEGIN:STANDARD
TZOFFSETFROM:+0200
TZOFFSETTO:+0100
TZNAME:CET
DTSTART:20171029T010000
END:STANDARD
BEGIN:DAYLIGHT
TZOFFSETFROM:+0100
TZOFFSETTO:+0200
TZNAME:CEST
DTSTART:20180325T010000
END:DAYLIGHT
BEGIN:STANDARD
TZOFFSETFROM:+0200
TZOFFSETTO:+0100
TZNAME:CET
DTSTART:20181028T010000
END:STANDARD
BEGIN:DAYLIGHT
TZOFFSETFROM:+0100
TZOFFSETTO:+0200
TZNAME:CEST
DTSTART:20190331T010000
END:DAYLIGHT
BEGIN:STANDARD
TZOFFSETFROM:+0200
TZOFFSETTO:+0100
TZNAME:CET
DTSTART:20191027T010000
END:STANDARD
BEGIN:DAYLIGHT
TZOFFSETFROM:+0100
TZOFFSETTO:+0200
TZNAME:CEST
DTSTART:20200329T010000
END:DAYLIGHT
BEGIN:STANDARD
TZOFFSETFROM:+0200
TZOFFSETTO:+0100
TZNAME:CET
DTSTART:20201025T010000
END:STANDARD
BEGIN:DAYLIGHT
TZOFFSETFROM:+0100
TZOFFSETTO:+0200
TZNAME:CEST
DTSTART:20210328T010000
END:DAYLIGHT
BEGIN:STANDARD
TZOFFSETFROM:+0200
TZOFFSETTO:+0100
TZNAME:CET
DTSTART:20211031T010000
END:STANDARD
END:VTIMEZONE
BEGIN:VTIMEZONE
TZID:UTC
BEGIN:STANDARD
TZOFFSETFROM:+0000
TZOFFSETTO:+0000
TZNAME:UTC
DTSTART:20170101T000000
END:STANDARD
END:VTIMEZONE
BEGIN:VEVENT
DTSTART;TZID=Europe/Berlin:20200227T190000
DTEND;TZID=Europe/Berlin:20200227T203000
DTSTAMP:20260421T111602
CREATED:20200204T104553Z
LAST-MODIFIED:20200207T112023Z
UID:4940-1582830000-1582835400@www.orte-der-erinnerung.de
SUMMARY:Europa nach Halle. Der Antisemitismus der Zukunft
DESCRIPTION:Innerhalb der Reihe »Die Last der Vergangenheit« // Dentro de nuestro ciclo »El peso del pasado« \n  \nDEUTSCH \nDer Anschlag in Halle hat die Öffentlichkeit erschüttert. Aber haben wir es wirklich mit einer neuen Eskalationsstufe des Antisemitismus zu tun? Gibt es dabei deutsche Spezifika oder sind ähnliche Tendenzen in anderen europäischen Ländern zu registrieren? Und wie sieht diese Entwicklung aus der spanischen Perspektive aus? Mit Stefanie Schüler-Springorum diskutieren Reyes Mate\, András Kovács und Yael Kupferberg. \nStefanie Schüler-Springorum ist Historikerin. Sie leitet das Zentrum für Antisemitismusforschung der TU und ist derzeit Sprecherin des Direktoriums des Selma Stern Zentrums Jüdische Studien Berlin-Brandenburg. Zudem ist sie Mitglied in mehreren Beiräten\, darunter dem Jüdischen Museum Berlin\, der Hochschule für Jüdische Studien in Heidelberg und dem Deutschen Historischen Institut in Washington. \nManuel-Reyes Mate Rupérez ist ein spanischer Philosoph\, der die politische Dimension der Vernunft\, der Geschichte und der Religion erforscht. Hierbei interessieren ihn besonders die politischen Aspekte von Erinnerung\, von Besiegten und die Rolle der Philosophie nach dem Holocaust und Auschwitz. 2009 wurde ihm der Spanische Essay-Preis für sein Werk La herencia del olvido (Das Erbe des Vergessens) verliehen. \nAndrás Kovács ist Professor an der Central European University\, wo er im Programm Nationalismusstudien und als wissenschaftlicher Leiter des Programms „Jewish Studies“ tätig ist. Zu seinen Forschungsschwerpunkten gehören Untersuchungen zu Antisemitismus in Ost-Mittel-Europa\, aber auch in Westeuropa. \nYael Kupferberg ist Literaturwissenschaftlerin. Sie forscht und lehrt seit Oktober 2018 am Zentrum für Antisemitismusforschung der TU; davor war sie als wiss. Mitarbeiterin (PostDoc) am Lehrstuhl für Jüdische Religion und Philosophie an der Universität Potsdam tätig. Sie studierte Jüdische Studien in Potsdam\, Tel Aviv und Philadelphia. \nSprache: Deutsch/ Spanisch\nAnmeldung unter: europanachhalle.eventbrite.de \n  \nIn Zusammearbeit mit dem Zentrum für Antisemitismusforschung der TU. Mit freundlicher Unterstützung von EUNIC-Berlin. \n  \n  \nESPAÑOL \nEl atentado de Halle ha conmocionado la opinión pública. ¿Estamos frente a una nueva escalada de antisemitismo? ¿Se trata de un fenómeno específicamente alemán o se registran tendencias similares en otros países europeos? ¿Cómo se ve este desarrollo desde la perspectiva española? Reyes Mate\, András Kovács y Yael Kupferberg\, todos ellos expertos en la materia\, discutirán con Stefanie Schüler-Springorum\, directora del centro de estudios antisemíticos de la Universidad Técnica de Berlín. \nStefanie Schüler-Springorum es historiadora. Dirige el Centro de Investigación del Antisemitismo de la Universidad Técnica de Berlín y actualmente es portavoz de la Junta Directiva del Centro Selma Stern de Estudios Judíos de Berlín-Brandenburgo. También es miembro de varias juntas asesoras\, entre las que se encuentran el Museo Judío de Berlín\, la Universidad de Estudios Judíos de Heidelberg y el Instituto Histórico Alemán de Washington. \nManuel-Reyes Mate Rupérez es un filósofo español que explora la dimensión política de la razón\, la historia y la religión. Está particularmente interesado en los aspectos políticos de la memoria\, de los vencidos y el papel de la filosofía después del Holocausto y Auschwitz. En 2009 fue galardonado con el Premio Nacional de Ensayo por su obra La herencia del olvido. \nAndrás Kovács es profesor en la Universidad de Europa Central\, donde trabaja en el programa de Estudios sobre el Nacionalismo y como director académico del programa de Estudios Judíos. Sus principales intereses de investigación incluyen estudios sobre el antisemitismo en Europa Central y Oriental\, pero también en Europa Occidental. \nYael Kupferberg es filóloga. Ha estado investigando y enseñando en el Centro de Investigación del Antisemitismo de la Universidad Técnica de Berlín desde octubre de 2018. Antes trabajó como investigadora posdoctoral en la Cátedra de Religión y Filosofía Judía de la Universidad de Potsdam. Estudió Estudios Judíos en Potsdam\, Tel Aviv y Filadelfia. \nIdioma: Español/ Alemán\nInscripción: europanachhalle.eventbrite.de \n  \nEn cooperación con el Centro de Investigación del Antisemitismo de la Universidad Técnica de Berlín. Con el amable apoyo de EUNIC-Berlín.
URL:https://www.orte-der-erinnerung.de/veranstaltung/europa-nach-halle/
CATEGORIES:Diskussion
END:VEVENT
BEGIN:VEVENT
DTSTART;TZID=Europe/Berlin:20180920T093000
DTEND;TZID=Europe/Berlin:20180920T183000
DTSTAMP:20260421T111602
CREATED:20180822T101828Z
LAST-MODIFIED:20180822T150313Z
UID:2988-1537435800-1537468200@www.orte-der-erinnerung.de
SUMMARY:Flüchtlingskrise 1938 und heute? Zur Aktualität der Internationalen Flüchtlingskonferenz von Évian 1938
DESCRIPTION:Im Rahmen der aktuellen Sonderausstellung »Geschlossene Grenzen. Die internationale Flüchtlingskonferenz von Évian 1938« laden die Gedenkstätte Deutscher Widerstand und das Zentrum für Antisemitismusforschung der Technischen Universität Berlin Sie herzlich zu einem internationalen wissenschaftlichen Symposium ein: \n  \nFlüchtlingskrise 1938 und heute?\nZur Aktualität der Internationalen Flüchtlingskonferenz von Évian 1938\nVom 6. bis 15. Juli 1938 trafen sich Vertreter von 32 Staaten im mondänen Badeort Évian-les-Bains am französischen Ufer des Genfer Sees. Anlass war eine von US-Präsident Roosevelt einberufene Konferenz zur Flüchtlingskrise in Europa\, die durch die Vertreibung der Juden aus dem Deutschen Reich und dem gerade »angeschlossenen« Österreich durch das NS-Regime ausgelöst worden war. Die Konferenzteilnehmer lehnten die Aufnahme zusätzlicher Flüchtlinge mit unterschiedlichen Begründungen ab. Zudem vermieden sie es\, das NS-Regime als Verantwortlichen der Flüchtlingskrise und die Juden als deren Hauptbetroffene zu benennen. Damit wurde die Konferenz von Évian zu einem Symbol dafür\, wie die dringend auf Zuflucht angewiesenen verfolgten Juden von der internationalen Staatengemeinschaft weitgehend im Stich gelassen wurden. \nDie von einem Team unter der wissenschaftlichen Leitung von Dr. Winfried Meyer kuratierte Ausstellung erinnert an die Voraussetzungen\, den Verlauf und die Folgen der Konferenz. Ein besonderes Schlaglicht wird auf die teilnehmenden Staaten und die Delegationen geworfen. \nDas Symposium beschäftigt sich mit der Aktualität der Konferenz von Évian und wirft einen Blick auf deren internationale Dimension sowie auf Bedeutung und Auswirkungen der Konferenz. \n  \nPROGRAMM \n9.30-9.45: Begrüßung\nStefanie Schüler-Springorum und Johannes Tuchel\, Berlin \n9.45-12.45: Panel I (Moderation: Miriam Rürup\, Hamburg)\n–  »The Americas« and the Évian conference (Marion Kaplan\, New York)\n–  Learning the Lessons of Évian: The Dominions and the Commonwealth\, Then and Now (Paul Bartrop\, Fort Myers)\n–  Jerusalem und Évian (Irene Aue-Ben-David\, Jerusalem)\n–  »Mission Bestseller« – Hans Habes Roman »Die Mission« und das öffentliche Bild der Évian-Konferenz in Deutschland (Winfried Meyer\, Berlin) \n12.45- 14.00: Mittagspause \n14.00-16.15: Panel II (Moderation: Isabel Enzenbach\, Berlin)\n–  Jüdische Organisationen in Évian (Martin Jost\, Leipzig)\n–  Auswirkungen der Évian-Konferenz auf die NS-Judenpolitik im Jahre 1938 (Wolf Gruner\, Los Angeles)\n–  Die Bedeutung der Évian-Konferenz für die Traditionsbildung und Arbeit des Hohen Flüchtlingskommissars der Vereinten Nationen (Roland Bank\, Berlin) \n16.15-17.00: Kaffeepause \n17.00- 18.30 Podiumsdiskussion (Moderation: Susanne Heim\, Berlin)\nHistorischer Einzelfall oder warnendes geschichtliches Exempel? Zur Aktualität der Flüchtlingskonferenz von Évian \nmit Stefanie Schüler-Springorum (Zentrum für Antisemitismusforschung der Technischen Universität Berlin)\, Roland Bank (UNHCR Deutschland)\, Franziska Vilmar (Amnesty International Deutschland) und Kerstin Düsch (Kommissariat der Deutschen Bischöfe – Katholisches Büro in Berlin) \n  \nDas Symposium findet in der Gedenkstätte Deutscher Widerstand in Saal 2B (zweite Etage) statt und ist Teil des Begleitprogramms zur Ausstellung »Geschlossen Grenzen. Die internationale Flüchtlingskonferenz von Évian 1938«. \nWegen der begrenzten Platzzahl bitten wir Sie um Anmeldung bis zum 9. September 2018 per E-Mail: adina.stern@campus.tu-berlin.de oder Telefon: 0178-7132559.
URL:https://www.orte-der-erinnerung.de/veranstaltung/fluechtlingskrise-1938-und-heute-zur-aktualitaet-der-internationalen-fluechtlingskonferenz-von-evian-1938/
LOCATION:Gedenkstätte Deutscher Widerstand\, Stauffenbergstraße 13/14\, Berlin\, 10785\, Deutschland
CATEGORIES:Symposium
ORGANIZER;CN="Gedenkst%C3%A4tte Deutscher Widerstand":MAILTO:veranstaltung@gdw-berlin.de
END:VEVENT
BEGIN:VEVENT
DTSTART;TZID=UTC:20180726T180000
DTEND;TZID=UTC:20180726T190000
DTSTAMP:20260421T111602
CREATED:20180712T104639Z
LAST-MODIFIED:20180713T075840Z
UID:2827-1532628000-1532631600@www.orte-der-erinnerung.de
SUMMARY:Ausstellungseröffnung »Geschlossen Grenzen. Die internationale Flüchtlingskonferenz von Évian 1938«
DESCRIPTION:Anlässlich des 80. Jahrestags der Konferenz von Évian laden die Gedenkstätte Deutscher Widerstand und das Zentrum für Antisemitismusforschung der Technischen Universität Berlin Sie herzlich zur Eröffnung einer gemeinsamen Ausstellung ein: \nGeschlossene Grenzen.\nDie internationale Flüchtlingskonferenz von Évian 1938\nGrußwort\nKarina Häuslmeier\, Amtierende Sonderbeauftragte für Beziehungen zu jüdischen Organisationen\, Auswärtiges Amt \nGrußwort\nAnnemarie Hühne\, Teamleiterin »Auseinandersetzung mit der Geschichte«\, Stiftung »Erinnerung\, Verantwortung\, Zukunft« \nZur Ausstellung\nProf. Dr. Stefanie Schüler-Springorum \n»Ein Schicksal nach Évian – Erinnerungen an meinen Vater Eli Carmel«\nZiporet W. Carmel\, Tel Aviv (in engl. Sprache) \n  \nMehr Informationen zur Ausstellung »Geschlossen Grenzen. Die internationale Flüchtlingskonferenz von Évian 1938« finden Sie hier. \nDie Veranstaltung findet in der Gedenkstätte Deutscher Widerstand\, Zweite Etage\, Saal 2B statt. Wegen der begrenzten Platzzahl bitten wir Sie um Anmeldung bis zum 23. Juli 2018 per E-Mail: veranstaltung@gdw-berlin.de oder Telefon: (030) 26 99 50 00.
URL:https://www.orte-der-erinnerung.de/veranstaltung/ausstellungseroeffnung-geschlossen-grenzen-die-internationale-fluechtlingskonferenz-von-evian-1938/
LOCATION:Gedenkstätte Deutscher Widerstand\, Stauffenbergstraße 13/14\, Berlin\, 10785\, Deutschland
CATEGORIES:Ausstellungseröffnung
ORGANIZER;CN="Gedenkst%C3%A4tte Deutscher Widerstand":MAILTO:veranstaltung@gdw-berlin.de
END:VEVENT
END:VCALENDAR