    BEGIN:VCALENDAR
VERSION:2.0
PRODID:-//Orte der Erinnerung 1933 - 1945 - ECPv6.15.11//NONSGML v1.0//EN
CALSCALE:GREGORIAN
METHOD:PUBLISH
X-WR-CALNAME:Orte der Erinnerung 1933 - 1945
X-ORIGINAL-URL:https://www.orte-der-erinnerung.de
X-WR-CALDESC:Veranstaltungen für Orte der Erinnerung 1933 - 1945
REFRESH-INTERVAL;VALUE=DURATION:PT1H
X-Robots-Tag:noindex
X-PUBLISHED-TTL:PT1H
BEGIN:VTIMEZONE
TZID:Europe/Berlin
BEGIN:DAYLIGHT
TZOFFSETFROM:+0100
TZOFFSETTO:+0200
TZNAME:CEST
DTSTART:20240331T010000
END:DAYLIGHT
BEGIN:STANDARD
TZOFFSETFROM:+0200
TZOFFSETTO:+0100
TZNAME:CET
DTSTART:20241027T010000
END:STANDARD
BEGIN:DAYLIGHT
TZOFFSETFROM:+0100
TZOFFSETTO:+0200
TZNAME:CEST
DTSTART:20250330T010000
END:DAYLIGHT
BEGIN:STANDARD
TZOFFSETFROM:+0200
TZOFFSETTO:+0100
TZNAME:CET
DTSTART:20251026T010000
END:STANDARD
BEGIN:DAYLIGHT
TZOFFSETFROM:+0100
TZOFFSETTO:+0200
TZNAME:CEST
DTSTART:20260329T010000
END:DAYLIGHT
BEGIN:STANDARD
TZOFFSETFROM:+0200
TZOFFSETTO:+0100
TZNAME:CET
DTSTART:20261025T010000
END:STANDARD
END:VTIMEZONE
BEGIN:VEVENT
DTSTART;TZID=Europe/Berlin:20251211T180000
DTEND;TZID=Europe/Berlin:20251211T200000
DTSTAMP:20260421T220126
CREATED:20251110T110526Z
LAST-MODIFIED:20251110T110526Z
UID:8203-1765476000-1765483200@www.orte-der-erinnerung.de
SUMMARY:Zeitzeugengespräch mit Willi Jörling
DESCRIPTION:Willi Jörling\, geborener Wagner\, stammt aus Münster. Auch als 84-Jähriger denkt er immerzu an die Nacht im März 1943\, als die Nationalsozialisten bei ihm zu Hause eindringen und seine Familie aus der Brinkstraße verschleppen. Der Großteil seiner Verwandten wird im Konzentrationslager Auschwitz-Birkenau ermordet\, darunter drei Kinder\, die von Dr. Josef Mengele für Experimente missbraucht werden.\nWilli Jörling ist das einzige Kind der Familie\, das überlebt\, der einzige Zeuge dieser Nacht. Bisher hat er darüber kaum in der Öffentlichkeit gesprochen. \nPROGRAMM\n\nBegrüßung und historische Einführung\nUwe Neumärker\, Direktor der Stiftung Denkmal für die ermordeten Juden Europas\n\nErzählung \nWilli Jörling\, Zeitzeuge \n\n\n\n\n\n\n\n\n\n\n\n\n\n\n\n\n\n\n\n\n\n\n\n\n\nUm Anmeldung bis zum 9. Dezember 2025 unter veranstaltungen@stiftung-denkmal.de oder Tel.\n030-26 39 43-0 wird gebeten.\n\nEintritt frei! \nEinlass ab 17.15 Uhr. \nBitte beachten Sie\, dass es eine Sicherheitskontrolle am Eingang gibt. Wenn Sie an der Veranstaltung teilnehmen\, stimmen Sie zu\, dass dort entstandene Foto- und Filmaufnahmen veröffentlicht werden dürfen.
URL:https://www.orte-der-erinnerung.de/veranstaltung/zeitzeugengespraech-mit-willi-joerling/
LOCATION:Denkmal für die ermordeten Juden Europas\, Cora-Berliner-Straße 1\, 10117 Berlin\, Cora-Berliner-Straße 1\, 10117 Berlin\, Berlin\, Deutschland
CATEGORIES:Zeitzeugengespräch
ORGANIZER;CN="Stiftung Denkmal f%C3%BCr die ermordeten Juden Europas":MAILTO:veranstaltungen@stiftung-denkmal.de
END:VEVENT
END:VCALENDAR