    BEGIN:VCALENDAR
VERSION:2.0
PRODID:-//Orte der Erinnerung 1933 - 1945 - ECPv6.15.11//NONSGML v1.0//EN
CALSCALE:GREGORIAN
METHOD:PUBLISH
X-ORIGINAL-URL:https://www.orte-der-erinnerung.de
X-WR-CALDESC:Veranstaltungen für Orte der Erinnerung 1933 - 1945
REFRESH-INTERVAL;VALUE=DURATION:PT1H
X-Robots-Tag:noindex
X-PUBLISHED-TTL:PT1H
BEGIN:VTIMEZONE
TZID:Europe/Berlin
BEGIN:DAYLIGHT
TZOFFSETFROM:+0100
TZOFFSETTO:+0200
TZNAME:CEST
DTSTART:20240331T010000
END:DAYLIGHT
BEGIN:STANDARD
TZOFFSETFROM:+0200
TZOFFSETTO:+0100
TZNAME:CET
DTSTART:20241027T010000
END:STANDARD
BEGIN:DAYLIGHT
TZOFFSETFROM:+0100
TZOFFSETTO:+0200
TZNAME:CEST
DTSTART:20250330T010000
END:DAYLIGHT
BEGIN:STANDARD
TZOFFSETFROM:+0200
TZOFFSETTO:+0100
TZNAME:CET
DTSTART:20251026T010000
END:STANDARD
BEGIN:DAYLIGHT
TZOFFSETFROM:+0100
TZOFFSETTO:+0200
TZNAME:CEST
DTSTART:20260329T010000
END:DAYLIGHT
BEGIN:STANDARD
TZOFFSETFROM:+0200
TZOFFSETTO:+0100
TZNAME:CET
DTSTART:20261025T010000
END:STANDARD
END:VTIMEZONE
BEGIN:VEVENT
DTSTART;TZID=Europe/Berlin:20250708T190000
DTEND;TZID=Europe/Berlin:20250708T203000
DTSTAMP:20260422T011911
CREATED:20250604T123008Z
LAST-MODIFIED:20250604T123025Z
UID:8013-1752001200-1752006600@www.orte-der-erinnerung.de
SUMMARY:Hitlers Fotograf. Heinrich Hoffmann. Eine Biografie
DESCRIPTION:Der Münchner Fotograf Heinrich Hoffmann (1885–1957) war Nationalsozialist der ersten Stunde und stellte seine beruflichen Fähigkeiten rasch in den Dienst der Partei. Seit den frühen 1920er Jahren prägten seine Aufnahmen das visuelle Image der NSDAP und ihres „Führers“\, den Hoffmann im Sinne der NS-Propaganda inszenierte. Aus dem Leibfotografen wurde ein enger Vertrauter Hitlers\, der aus dem inneren Kreis bald nicht mehr wegzudenken war.\nIn seinem Buch Hitlers Fotograf Heinrich Hoffmann. Eine Biografie (2025) zeigt Sebastian Peters\, dass Hoffmann seine einzigartige Position zu nutzen wusste. Als Verleger eines Unternehmens\, das sich zum größten privaten Bildpresseverlag des „Dritten Reichs“ entwickelte\, stieg er ab 1933 zum einflussreichen Propagandisten und Multimillionär auf. Erst mit der deutschen Niederlage ging das Imperium des selbsternannten „Reichsbildberichterstatters“ unter. Doch auch wenn Hoffmanns Person nach 1945 allmählich in der Bedeutungslosigkeit versank\, führen seine Bilder ein Nachleben – das bis heute anhält. \nSebastian Peters ist wissenschaftlicher Mitarbeiter und Kurator der Dokumentation Obersalzberg am Institut für Zeitgeschichte München–Berlin. Sein Studium der Geschichte und Politikwissenschaft absolvierte er an den Universitäten München und Maynooth (Irland). Er hat diverse Aufsätze verfasst\, darunter Der „Millionär von Hitlers Gnaden“ und die Kunst. Zu Entstehung und Verbleib der Sammlung Heinrich Hoffmann (2018). Mit der vorliegenden Studie wurde er 2021 an der Ludwig-Maximilians-Universität München promoviert. \nAndreas Mix ist wissenschaftlicher Mitarbeiter und Ausstellungskurator der Stiftung Topographie des Terrors. \n\n\n\n\n\n\n\n\nBuchpräsentation \nDr. Sebastian Peters\, München \n\n\nModeration \nAndreas Mix\, Berlin \n\n\n\n\n\nHinweis \nMit Ihrer Teilnahme an der Veranstaltung erteilen Sie Ihr Einverständnis\, dass Foto- und Videoaufnahmen Ihrer Person als Teil von Überblickseinstellungen im Zuge der Öffentlichkeitsarbeit der Veranstalter verwendet werden können.
URL:https://www.orte-der-erinnerung.de/veranstaltung/hitlers-fotograf-heinrich-hoffmann-eine-biografie/
LOCATION:Dokumentationszentrum Topographie des Terrors\, Niederkirchnerstraße 8\, Berlin\, 10963
CATEGORIES:Buchpräsentation
ORGANIZER;CN="Topographie des Terrors. Gestapo%2C SS und Reichssicherheitshauptamt in der Wilhelm- und Prinz-Albrecht-Stra%C3%9Fe":MAILTO:veranstaltungen@topographie.de
GEO:52.5066836;13.3837024
X-APPLE-STRUCTURED-LOCATION;VALUE=URI;X-ADDRESS=Dokumentationszentrum Topographie des Terrors Niederkirchnerstraße 8 Berlin 10963;X-APPLE-RADIUS=500;X-TITLE=Niederkirchnerstraße 8:geo:13.3837024,52.5066836
END:VEVENT
END:VCALENDAR