    BEGIN:VCALENDAR
VERSION:2.0
PRODID:-//Orte der Erinnerung 1933 - 1945 - ECPv6.15.11//NONSGML v1.0//EN
CALSCALE:GREGORIAN
METHOD:PUBLISH
X-WR-CALNAME:Orte der Erinnerung 1933 - 1945
X-ORIGINAL-URL:https://www.orte-der-erinnerung.de
X-WR-CALDESC:Veranstaltungen für Orte der Erinnerung 1933 - 1945
REFRESH-INTERVAL;VALUE=DURATION:PT1H
X-Robots-Tag:noindex
X-PUBLISHED-TTL:PT1H
BEGIN:VTIMEZONE
TZID:Europe/Berlin
BEGIN:DAYLIGHT
TZOFFSETFROM:+0100
TZOFFSETTO:+0200
TZNAME:CEST
DTSTART:20240331T010000
END:DAYLIGHT
BEGIN:STANDARD
TZOFFSETFROM:+0200
TZOFFSETTO:+0100
TZNAME:CET
DTSTART:20241027T010000
END:STANDARD
BEGIN:DAYLIGHT
TZOFFSETFROM:+0100
TZOFFSETTO:+0200
TZNAME:CEST
DTSTART:20250330T010000
END:DAYLIGHT
BEGIN:STANDARD
TZOFFSETFROM:+0200
TZOFFSETTO:+0100
TZNAME:CET
DTSTART:20251026T010000
END:STANDARD
BEGIN:DAYLIGHT
TZOFFSETFROM:+0100
TZOFFSETTO:+0200
TZNAME:CEST
DTSTART:20260329T010000
END:DAYLIGHT
BEGIN:STANDARD
TZOFFSETFROM:+0200
TZOFFSETTO:+0100
TZNAME:CET
DTSTART:20261025T010000
END:STANDARD
END:VTIMEZONE
BEGIN:VEVENT
DTSTART;TZID=Europe/Berlin:20250716T183000
DTEND;TZID=Europe/Berlin:20250716T190000
DTSTAMP:20260421T220229
CREATED:20250624T105240Z
LAST-MODIFIED:20250624T105240Z
UID:8031-1752690600-1752692400@www.orte-der-erinnerung.de
SUMMARY:Forum 20. Juli 1944 - Vermächtnis und Zukunftsauftrag. Frauen und Widerstand
DESCRIPTION:Ort: Akademie der Konrad-Adenauer-Stiftung\, Tiergartenstraße 35\, 10785 Berlin\n\nIn Kooperation mit der Stiftung 20. Juli 1944 erinnert die Konrad-Adenauer-Stiftung in jedem Jahr an den Widerstand gegen den Nationalsozialismus. Wir möchten an die Widerstandskämpfer erinnern\, Brücken ins Heute schlagen und Wachsamkeit gegenüber extremistischen Ideologien erzeugen. \nDer Weg zur Anerkennung des Widerstands gegen den Nationalsozialismus in der Bundesrepublik Deutschland war lang\, konfliktreich und voller Widersprüche. Lange Zeit wurde der Widerstand\, den Frauen gegen das NS-Regime direkt oder indirekt erbracht haben\, kaum zur Kenntnis genommen. \nAm 28. Juni 2019 hat der Bundestag einen Antrag von CDU/CSU und SPD mit dem Titel Frauen im Widerstand gegen den Nationalsozialismus würdigen – bei Enthaltung der AfD-Fraktion – angenommen. In diesem Jahr möchten wir\, anlässlich des 81. Jahrestages des 20. Juli 1944\, den Beitrag\, den Frauen im Kampf gegen das NS-Regime geleistet haben und für den einige auch mit ihrem Leben bezahlten\, in den Blick nehmen und würdigen. \nWeitere Informationen\, das Programm und die Online-Anmeldung finden Sie auf der Website der Konrad-Adenauer-Stiftung. \nBitte beachten Sie\, dass eine Teilnahme nur nach vorheriger Anmeldung möglich ist.
URL:https://www.orte-der-erinnerung.de/veranstaltung/forum-20-juli-1944-vermaechtnis-und-zukunftsauftrag-frauen-und-widerstand/
LOCATION:Konrad-Adenauer-Stiftung e. V.\, Klingelhöferstraße\, Berlin\, 10785\, Germany
CATEGORIES:Gedenkveranstaltung
ORGANIZER;CN="Gedenkst%C3%A4tte Deutscher Widerstand":MAILTO:veranstaltung@gdw-berlin.de
GEO:52.5080703;13.3522974
X-APPLE-STRUCTURED-LOCATION;VALUE=URI;X-ADDRESS=Konrad-Adenauer-Stiftung e. V. Klingelhöferstraße Berlin 10785 Germany;X-APPLE-RADIUS=500;X-TITLE=Klingelhöferstraße:geo:13.3522974,52.5080703
END:VEVENT
END:VCALENDAR