    BEGIN:VCALENDAR
VERSION:2.0
PRODID:-//Orte der Erinnerung 1933 - 1945 - ECPv6.15.11//NONSGML v1.0//EN
CALSCALE:GREGORIAN
METHOD:PUBLISH
X-ORIGINAL-URL:https://www.orte-der-erinnerung.de
X-WR-CALDESC:Veranstaltungen für Orte der Erinnerung 1933 - 1945
REFRESH-INTERVAL;VALUE=DURATION:PT1H
X-Robots-Tag:noindex
X-PUBLISHED-TTL:PT1H
BEGIN:VTIMEZONE
TZID:Europe/Berlin
BEGIN:DAYLIGHT
TZOFFSETFROM:+0100
TZOFFSETTO:+0200
TZNAME:CEST
DTSTART:20240331T010000
END:DAYLIGHT
BEGIN:STANDARD
TZOFFSETFROM:+0200
TZOFFSETTO:+0100
TZNAME:CET
DTSTART:20241027T010000
END:STANDARD
BEGIN:DAYLIGHT
TZOFFSETFROM:+0100
TZOFFSETTO:+0200
TZNAME:CEST
DTSTART:20250330T010000
END:DAYLIGHT
BEGIN:STANDARD
TZOFFSETFROM:+0200
TZOFFSETTO:+0100
TZNAME:CET
DTSTART:20251026T010000
END:STANDARD
BEGIN:DAYLIGHT
TZOFFSETFROM:+0100
TZOFFSETTO:+0200
TZNAME:CEST
DTSTART:20260329T010000
END:DAYLIGHT
BEGIN:STANDARD
TZOFFSETFROM:+0200
TZOFFSETTO:+0100
TZNAME:CET
DTSTART:20261025T010000
END:STANDARD
END:VTIMEZONE
BEGIN:VEVENT
DTSTART;TZID=Europe/Berlin:20250801T203000
DTEND;TZID=Europe/Berlin:20250801T210000
DTSTAMP:20260421T202310
CREATED:20250623T073244Z
LAST-MODIFIED:20250725T055452Z
UID:8020-1754080200-1754082000@www.orte-der-erinnerung.de
SUMMARY:Neues Datum!: »ÜBERTRAGENDE WUNDEN« – NACHKOMMEN ERZÄHLEN. ERINNERN AN DIE ERMORDUNG DER LETZTEN SINTI UND ROMA IN AUSCHWITZ-BIRKENAU VOR 81 JAHREN
DESCRIPTION:  \n\n\n\n\n\n\n\n\n\n\n\n\nVor 81 Jahren – in der Nacht vom 2. auf den 3. August 1944 – ermordeten SS-Angehörige die verbliebenen 4.300 Sinti und Roma in den Gaskammern von Auschwitz-Birkenau – zumeist als arbeitsunfähig eingestufte Frauen\, Kinder und ältere Menschen. Seit 2015 ist der 2. August Internationaler Gedenktag an den Völkermord an Sinti und Roma. \nAnmeldung:\nUm Anmeldung bis zum 30. Juli 2025 unter Tel. 030-26 39 43-0 oder veranstaltungen@stiftung-denkmal.de wird gebeten. \nIm Anschluss an die Veranstaltung besteht die Möglichkeit\, am Brunnen des Denkmals Blumen niederzulegen. Bitte bringen auch Sie eine mit! Herzlichen Dank \n  \nPROGRAMM \nGedichtvortrag\n»Auschwitz« von Santino Spinelli \nBegrüßung\nUwe Neumärker\, Direktor der Stiftung Denkmal für die ermordeten Juden Europas \nWortbeiträge von Nachkommen\nPetra Rosenberg\, Vorsitzende des Landesverbandes Deutscher Sinti und Roma Berlin-Brandenburg\, liest aus den Erinnerungen ihres Vaters Otto Rosenberg (1927 – 2001).\nDaniel Strauß\, Vorsitzender von RomnoKher\, spricht über seinen Vater Heinz Strauß (1925 – 2008).\nHamze Bytyçi\, Vorsitzender RomaTrial e. V.\, erinnert an seine »Adoptiv-Oma« Zilli Schmidt (1924 – 2022). \nMusikalische Umrahmung\nAntonina Botygina (Violoncello) \n  \nEine Veranstaltung der Stiftung Denkmal für die ermordeten Juden Europas gemeinsam mit dem Landesverbandes Deutscher Sinti und Roma Berlin-Brandenburg\, RomnoKher und RomaTrial e.V.. \nWenn Sie an der Veranstaltung teilnehmen\, stimmen Sie zu\, dass dort entstandene Foto- und Filmaufnahmen veröffentlicht werden dürfen.
URL:https://www.orte-der-erinnerung.de/veranstaltung/uebertragende-wunden-nachkommen-erzaehlen-erinnern-an-die-ermordung-der-letzten-sinti-und-roma-in-auschwitz-birkenau-vor-81-jahren/
LOCATION:Denkmal für die im Nationalsozialismus ermordeten Sinti und Roma Europas\, Simsonweg\, Berlin\, 10557
CATEGORIES:Gedenkveranstaltung
GEO:52.517301;13.376053
X-APPLE-STRUCTURED-LOCATION;VALUE=URI;X-ADDRESS=Denkmal für die im Nationalsozialismus ermordeten Sinti und Roma Europas Simsonweg Berlin 10557;X-APPLE-RADIUS=500;X-TITLE=Simsonweg:geo:13.376053,52.517301
END:VEVENT
END:VCALENDAR