    BEGIN:VCALENDAR
VERSION:2.0
PRODID:-//Orte der Erinnerung 1933 - 1945 - ECPv6.15.11//NONSGML v1.0//EN
CALSCALE:GREGORIAN
METHOD:PUBLISH
X-ORIGINAL-URL:https://www.orte-der-erinnerung.de
X-WR-CALDESC:Veranstaltungen für Orte der Erinnerung 1933 - 1945
REFRESH-INTERVAL;VALUE=DURATION:PT1H
X-Robots-Tag:noindex
X-PUBLISHED-TTL:PT1H
BEGIN:VTIMEZONE
TZID:Europe/Berlin
BEGIN:DAYLIGHT
TZOFFSETFROM:+0100
TZOFFSETTO:+0200
TZNAME:CEST
DTSTART:20240331T010000
END:DAYLIGHT
BEGIN:STANDARD
TZOFFSETFROM:+0200
TZOFFSETTO:+0100
TZNAME:CET
DTSTART:20241027T010000
END:STANDARD
BEGIN:DAYLIGHT
TZOFFSETFROM:+0100
TZOFFSETTO:+0200
TZNAME:CEST
DTSTART:20250330T010000
END:DAYLIGHT
BEGIN:STANDARD
TZOFFSETFROM:+0200
TZOFFSETTO:+0100
TZNAME:CET
DTSTART:20251026T010000
END:STANDARD
BEGIN:DAYLIGHT
TZOFFSETFROM:+0100
TZOFFSETTO:+0200
TZNAME:CEST
DTSTART:20260329T010000
END:DAYLIGHT
BEGIN:STANDARD
TZOFFSETFROM:+0200
TZOFFSETTO:+0100
TZNAME:CET
DTSTART:20261025T010000
END:STANDARD
END:VTIMEZONE
BEGIN:VEVENT
DTSTART;TZID=Europe/Berlin:20250909T190000
DTEND;TZID=Europe/Berlin:20250909T190000
DTSTAMP:20260421T124018
CREATED:20250820T123322Z
LAST-MODIFIED:20250820T123348Z
UID:8069-1757444400-1757444400@www.orte-der-erinnerung.de
SUMMARY:Der Nationalsozialismus im Familiengedächtnis
DESCRIPTION:Der Nationalsozialismus ist in Deutschland Teil zahlreicher Familiengeschichten. In den letzten Jahrzehnten setzen sich besonders Kinder und Enkel der Kriegs- und NS-Generation kritisch mit ihrer Familiengeschichte auseinander und bringen immer wieder auch bisher Verschwiegenes ans Licht.\nIn der Ausstellung „‚Die Nazis waren ja nicht einfach weg.‘ Vom Umgang mit dem Nationalsozialismus in Deutschland seit 1945“ beleuchtet das Kapitel „Unbekanntes Erbe“ exemplarisch\, wie das Erinnern an die NS-Geschichte\, aber auch die Spurensuche in einzelnen Opfer- und Täterfamilien aussieht. Im Podiumsgespräch wird nicht nur danach gefragt\, was in den Familien erzählt oder ausgeblendet wurde\, sondern auch\, welche Wege die Nachkommen beschritten haben\, um Verschwiegenes aufzudecken und wie sie heute mit diesem Wissen umgehen. \nRüdiger Horstmann arbeitet als Vertriebsleiter in Hamburg. Ab 2010 recherchierte er zur Geschichte seines Großvaters\, des SS-Offiziers Walter Schallock (1903–1974). Während des Zweiten Weltkriegs war dieser als Mitglied verschiedener Einsatzkommandos direkt an der Ermordung der jüdischen Bevölkerung beteiligt. \nMarion Schubert (geb. Salomon) wurde 1946 in Shanghai geboren. Ihre jüdischen Eltern waren 1938/39 vor den Nationalsozialisten nach China geflohen. 1953 kehrte die Familie über Israel zurück nach Berlin. Marion Schuberts Mann Reinhard (1944–2000) setzte sich als Jurist im Bundesjustizministerium für die Aufhebung von NS-Unrechtsurteilen ein. \nJutta Ströter-Bender ist Mitgründerin des International Research and Archives Network for Historical Children’s and Youth Drawings (IRAND). Erst vor wenigen Jahren entdeckte sie mit ihrem Mann\, dass ihre Schwiegermutter in der NS-Zeit als Halbjüdin galt. Ihr Schwiegervater\, der am nationalsozialistischen Raketenprogramm mitarbeitete\, hatte sie 1940 mithilfe gefälschter Papiere geheiratet. \nMathias Rösch ist Leiter des Schulmuseums Nürnberg und Mitkurator der Ausstellung „‚Die Nazis waren ja nicht einfach weg.‘ Vom Umgang mit dem Nationalsozialismus in Deutschland seit 1945“. \n\n\n\n\n\n\n\n\nPodiumsgespräch\nRüdiger Horstmann\, Hamburg\nMarion Schubert\, Berlin\nProf. Dr. Jutta Ströter-Bender\, Meisenheim am Glan\n\n  \nModeration\nDr. Mathias Rösch\, Nürnberg \n\n\n  \n\n\nHinweis \nMit Ihrer Teilnahme an der Veranstaltung erteilen Sie Ihr Einverständnis\, dass Fotoaufnahmen Ihrer Person als Teil von Überblickseinstellungen im Zuge der Öffentlichkeitsarbeit der Veranstalter verwendet werden können. \nIm Rahmen der Sonderausstellung „‚Die Nazis waren ja nicht einfach weg.‘ Vom Umgang mit dem Nationalsozialismus in Deutschland seit 1945
URL:https://www.orte-der-erinnerung.de/veranstaltung/der-nationalsozialismus-im-familiengedaechtnis/
LOCATION:Dokumentationszentrum Topographie des Terrors\, Niederkirchnerstraße 8\, Berlin\, 10963
CATEGORIES:Podiumsdiskussion
ORGANIZER;CN="Topographie des Terrors. Gestapo%2C SS und Reichssicherheitshauptamt in der Wilhelm- und Prinz-Albrecht-Stra%C3%9Fe":MAILTO:veranstaltungen@topographie.de
GEO:52.5066836;13.3837024
X-APPLE-STRUCTURED-LOCATION;VALUE=URI;X-ADDRESS=Dokumentationszentrum Topographie des Terrors Niederkirchnerstraße 8 Berlin 10963;X-APPLE-RADIUS=500;X-TITLE=Niederkirchnerstraße 8:geo:13.3837024,52.5066836
END:VEVENT
BEGIN:VEVENT
DTSTART;TZID=Europe/Berlin:20250911T190000
DTEND;TZID=Europe/Berlin:20250911T190000
DTSTAMP:20260421T124018
CREATED:20250820T123625Z
LAST-MODIFIED:20250820T123648Z
UID:8072-1757617200-1757617200@www.orte-der-erinnerung.de
SUMMARY:Die Kunst\, geliebt zu werden | Jak być kochaną
DESCRIPTION:Kosten:  Eintritt frei\n\n\n\n\n\n\n\n\n Dauer:  110 Minuten\n Sprachen:  Deutsch\n\n\n\n\n\n\n\n\n\n\n\n\n\n\n\n\nPolen 1962\, 97 Minuten\, OmdU\, Regie: Wojciech Jerzy Has \nDie bekannte Radiosprecherin Felicja fliegt Ende der 1950er-Jahre von Warschau nach Paris. Dabei erinnert sie sich an die Zeit der deutschen Besatzung im Zweiten Weltkrieg. Als junge Schauspielerin versteckte sie ihren Kollegen Wiktor\, der 1939 einen „Volksdeutschen“ getötet hatte\, in ihrer Wohnung. Um ihm das Überleben zu sichern\, spielte sie für die Deutschen in einem Theater. Nach Kriegsende wurde Felicja deshalb als Kollaborateurin verurteilt. Wiktor wandte sich von ihr ab und nahm sich schließlich das Leben.\nDer Spielfilm Jak być kochaną von Wojciech Jerzy Has (1925–2000) basiert auf der gleichnamigen Erzählung von Kazimierz Brandys (1916–2000). Die inneren Monologe aus dem Buch übersetzt Has in Rückblenden. Reflektiert wird eine weibliche Perspektive auf das Leben im Krieg unter deutscher Besatzung und die Zeit danach. Zugleich ist der Film eine kritische Auseinandersetzung mit patriotischen Heldenmythen. Das psychologische Drama um Liebe und Verrat zählt zu den Meisterwerken des polnischen Films und lief auf zahlreichen internationalen Festivals. \nMartin Sander ist Journalist\, Autor und Übersetzer. Als Kulturkorrespondent berichtet er für Deutschlandradio und andere Sender über Polen\, die Ukraine und den Balkan und schreibt für verschiedene Tageszeitungen. \nAndreas Mix ist wissenschaftlicher Mitarbeiter und Ausstellungskurator der Stiftung Topographie des Terrors. \n\n\n\n\n\n\n\n\n\nIm Anschluss \nPodiumsgespräch zum Spielfilm mit Dr. Martin Sander und Andreas Mix \n\n\n  \n\n\nGemeinsam mit Polnisches Institut Berlin \n\n\nIm Rahmen von filmPOLSKA 2025 \n\n\nGefördert durch \nMinister für Kultur und nationales Erbe der Republik Polen \n\n\nHinweis \nMit Ihrer Teilnahme an der Veranstaltung erteilen Sie Ihr Einverständnis\, dass Fotoaufnahmen Ihrer Person als Teil von Überblickseinstellungen im Zuge der Öffentlichkeitsarbeit der Veranstalter verwendet werden können.
URL:https://www.orte-der-erinnerung.de/veranstaltung/die-kunst-geliebt-zu-werden-jak-byc-kochana/
LOCATION:Dokumentationszentrum Topographie des Terrors\, Niederkirchnerstraße 8\, Berlin\, 10963
CATEGORIES:Diskussion,Film
ORGANIZER;CN="Topographie des Terrors. Gestapo%2C SS und Reichssicherheitshauptamt in der Wilhelm- und Prinz-Albrecht-Stra%C3%9Fe":MAILTO:veranstaltungen@topographie.de
GEO:52.5066836;13.3837024
X-APPLE-STRUCTURED-LOCATION;VALUE=URI;X-ADDRESS=Dokumentationszentrum Topographie des Terrors Niederkirchnerstraße 8 Berlin 10963;X-APPLE-RADIUS=500;X-TITLE=Niederkirchnerstraße 8:geo:13.3837024,52.5066836
END:VEVENT
BEGIN:VEVENT
DTSTART;TZID=Europe/Berlin:20250913T130000
DTEND;TZID=Europe/Berlin:20250913T143000
DTSTAMP:20260421T124018
CREATED:20250910T123737Z
LAST-MODIFIED:20250910T124045Z
UID:8118-1757768400-1757773800@www.orte-der-erinnerung.de
SUMMARY:Führung: On the Roof of Himmler's Guesthouse
DESCRIPTION:Die U.S. Army 1945 am Wannsee \nFritz Julius Traugott flieht 1938 vor der antisemitischen Verfolgung in die USA. Als US-Soldat kehrt er nach Deutschland zurück. In Berlin ist er mit einer Einheit sogenannter Ritchie Boys ausgerechnet im ehemaligen Gästehaus der SS untergebracht\, dem Ort der damals noch nicht bekannten Wannsee-Konferenz. Ritchie Boys sind US-Soldaten\, die wegen ihrer muttersprachlichen Deutschkenntnisse für Verhöre von Kriegsgefangenen und Kriegsverbrechern ausgebildet werden. \n\n\n\n\n\n\nSeiner Frau Lucia schickt er fast täglich Fotos und Briefe aus der Wannsee-Villa\, unter anderem auf Papier aus der “Adjutantur des Führers”\, das er in der Reichskanzlei findet. Die erstmals veröffentlichten Dokumente sowie die Fotografien\, die Fritz Traugott vor Ort macht\, sind Kern der Ausstellung. \nJudith Alberth\, die mit der Direktorin Deborah Hartmann die Ausstellung kuratiert hat\, stellt sie Ihnen vor: kostenfrei\, ohne Anmeldung\, herzlich willkommen. \n\n\n\n\n\n\n\n\n\n\nMehr Informationen zur Ausstellung  auf unserer Webseite
URL:https://www.orte-der-erinnerung.de/veranstaltung/fuehrung-on-the-roof-of-himmlers-guesthouse/2025-09-13/
CATEGORIES:Führung
END:VEVENT
END:VCALENDAR