    BEGIN:VCALENDAR
VERSION:2.0
PRODID:-//Orte der Erinnerung 1933 - 1945 - ECPv6.15.11//NONSGML v1.0//EN
CALSCALE:GREGORIAN
METHOD:PUBLISH
X-WR-CALNAME:Orte der Erinnerung 1933 - 1945
X-ORIGINAL-URL:https://www.orte-der-erinnerung.de
X-WR-CALDESC:Veranstaltungen für Orte der Erinnerung 1933 - 1945
REFRESH-INTERVAL;VALUE=DURATION:PT1H
X-Robots-Tag:noindex
X-PUBLISHED-TTL:PT1H
BEGIN:VTIMEZONE
TZID:Europe/Berlin
BEGIN:DAYLIGHT
TZOFFSETFROM:+0100
TZOFFSETTO:+0200
TZNAME:CEST
DTSTART:20240331T010000
END:DAYLIGHT
BEGIN:STANDARD
TZOFFSETFROM:+0200
TZOFFSETTO:+0100
TZNAME:CET
DTSTART:20241027T010000
END:STANDARD
BEGIN:DAYLIGHT
TZOFFSETFROM:+0100
TZOFFSETTO:+0200
TZNAME:CEST
DTSTART:20250330T010000
END:DAYLIGHT
BEGIN:STANDARD
TZOFFSETFROM:+0200
TZOFFSETTO:+0100
TZNAME:CET
DTSTART:20251026T010000
END:STANDARD
BEGIN:DAYLIGHT
TZOFFSETFROM:+0100
TZOFFSETTO:+0200
TZNAME:CEST
DTSTART:20260329T010000
END:DAYLIGHT
BEGIN:STANDARD
TZOFFSETFROM:+0200
TZOFFSETTO:+0100
TZNAME:CET
DTSTART:20261025T010000
END:STANDARD
END:VTIMEZONE
BEGIN:VEVENT
DTSTART;TZID=Europe/Berlin:20251210T190000
DTEND;TZID=Europe/Berlin:20251210T210000
DTSTAMP:20260422T012700
CREATED:20251118T153222Z
LAST-MODIFIED:20251118T154432Z
UID:8236-1765393200-1765400400@www.orte-der-erinnerung.de
SUMMARY:Das Sinfoniekonzert im nationalsozialistischen Deutschland
DESCRIPTION:In den Jahren nach der Machtübernahme der Nationalsozialisten im Januar 1933 und während des Zweiten Weltkriegs veränderten sich zunehmend alle Aspekte des Lebens in Deutschland. Trotz der sozialen und politischen Umwälzungen besuchten nichtjüdische Bürgerinnen und Bürger weiterhin Konzerte.\nMit seinem Buch The Symphony Concert in Nazi Germany (2025) legt Neil Gregor eine Sozial- und Kulturgeschichte des Konzertbesuchs im nationalsozialistischen Deutschland vor. Auf der Grundlage bisher unerschlossener Archivbestände von Orchestern in ganz Deutschland untersucht der Autor\, wie sich die klassische Konzertszene veränderte und schildert das kulturelle Leben der Deutschen unter den Bedingungen der Diktatur – auch aus der Perspektive des Publikums. Gregor kommt zu dem Schluss\, dass der Konzertsaal kein Rückzugsort war. Gezeigt wird vielmehr\, wie das Konzertwesen durch unzählige Maßnahmen in den Rahmen von Nationalismus\, Rassismus und Militarismus des NS-Regimes eingespannt wurde\, um seinen Platz im kulturellen Kosmos des nationalsozialistischen Deutschlands zu sichern. \nNeil Gregor ist Professor of Modern European History an der Universität von Southampton. Er hat zahlreiche Veröffentlichungen vorgelegt\, darunter Daimler-Benz in the Third Reich (1998)\, Haunted City: Nuremberg and the Nazi Past (2008)\, How to Read Hitler (2014)\, Dreams of Germany: Musical Imaginaries from the Concert Hall to the Dance Floor (2019\, Mithg.) sowie den Aufsatz Concert programs\, ideology and the search for subjectivity in National Socialist Germany (2023). \nFriedrich Geiger ist Professor für Historische Musikwissenschaft an der Hochschule für Musik und Theater München. Zu seinen Arbeitsschwerpunkten gehören die vergleichende Forschung zur Musik in Diktaturen und im Exil. Seit Januar 2025 leitet er das Langzeitprojekt „NS-Verfolgung und Musikgeschichte“ der Akademie der Wissenschaften in Hamburg. \n\n\n\n\n\n\n\n\nBuchpräsentation \nProf. Dr. Neil Gregor\, Southampton\, UK \n\n\nModeration \nProf. Dr. Friedrich Geiger\, München \n\n\nHinweise \nMit Ihrer Teilnahme an der Veranstaltung erteilen Sie Ihr Einverständnis\, dass Fotoaufnahmen Ihrer Person als Teil von Überblickseinstellungen im Zuge der Öffentlichkeitsarbeit der Veranstalter verwendet werden können.
URL:https://www.orte-der-erinnerung.de/veranstaltung/das-sinfoniekonzert-im-nationalsozialistischen-deutschland/
LOCATION:Dokumentationszentrum Topographie des Terrors\, Niederkirchnerstraße 8\, Berlin\, 10963
CATEGORIES:Buchpräsentation
ORGANIZER;CN="Topographie des Terrors. Gestapo%2C SS und Reichssicherheitshauptamt in der Wilhelm- und Prinz-Albrecht-Stra%C3%9Fe":MAILTO:veranstaltungen@topographie.de
GEO:52.5066836;13.3837024
X-APPLE-STRUCTURED-LOCATION;VALUE=URI;X-ADDRESS=Dokumentationszentrum Topographie des Terrors Niederkirchnerstraße 8 Berlin 10963;X-APPLE-RADIUS=500;X-TITLE=Niederkirchnerstraße 8:geo:13.3837024,52.5066836
END:VEVENT
BEGIN:VEVENT
DTSTART;TZID=Europe/Berlin:20251211T180000
DTEND;TZID=Europe/Berlin:20251211T200000
DTSTAMP:20260422T012700
CREATED:20251110T110526Z
LAST-MODIFIED:20251110T110526Z
UID:8203-1765476000-1765483200@www.orte-der-erinnerung.de
SUMMARY:Zeitzeugengespräch mit Willi Jörling
DESCRIPTION:Willi Jörling\, geborener Wagner\, stammt aus Münster. Auch als 84-Jähriger denkt er immerzu an die Nacht im März 1943\, als die Nationalsozialisten bei ihm zu Hause eindringen und seine Familie aus der Brinkstraße verschleppen. Der Großteil seiner Verwandten wird im Konzentrationslager Auschwitz-Birkenau ermordet\, darunter drei Kinder\, die von Dr. Josef Mengele für Experimente missbraucht werden.\nWilli Jörling ist das einzige Kind der Familie\, das überlebt\, der einzige Zeuge dieser Nacht. Bisher hat er darüber kaum in der Öffentlichkeit gesprochen. \nPROGRAMM\n\nBegrüßung und historische Einführung\nUwe Neumärker\, Direktor der Stiftung Denkmal für die ermordeten Juden Europas\n\nErzählung \nWilli Jörling\, Zeitzeuge \n\n\n\n\n\n\n\n\n\n\n\n\n\n\n\n\n\n\n\n\n\n\n\n\n\nUm Anmeldung bis zum 9. Dezember 2025 unter veranstaltungen@stiftung-denkmal.de oder Tel.\n030-26 39 43-0 wird gebeten.\n\nEintritt frei! \nEinlass ab 17.15 Uhr. \nBitte beachten Sie\, dass es eine Sicherheitskontrolle am Eingang gibt. Wenn Sie an der Veranstaltung teilnehmen\, stimmen Sie zu\, dass dort entstandene Foto- und Filmaufnahmen veröffentlicht werden dürfen.
URL:https://www.orte-der-erinnerung.de/veranstaltung/zeitzeugengespraech-mit-willi-joerling/
LOCATION:Denkmal für die ermordeten Juden Europas\, Cora-Berliner-Straße 1\, 10117 Berlin\, Cora-Berliner-Straße 1\, 10117 Berlin\, Berlin\, Deutschland
CATEGORIES:Zeitzeugengespräch
ORGANIZER;CN="Stiftung Denkmal f%C3%BCr die ermordeten Juden Europas":MAILTO:veranstaltungen@stiftung-denkmal.de
END:VEVENT
BEGIN:VEVENT
DTSTART;TZID=Europe/Berlin:20251213T130000
DTEND;TZID=Europe/Berlin:20251213T130000
DTSTAMP:20260422T012700
CREATED:20251110T104516Z
LAST-MODIFIED:20251110T104516Z
UID:8200-1765630800-1765630800@www.orte-der-erinnerung.de
SUMMARY:Führung: On the Roof of Himmler's Guesthouse
DESCRIPTION:Die U.S. Army 1945 am Wannsee\nFührung durch unsere Sonderausstellung im Garten mit unserer Kuratorin Judith Alberth – kostenfrei\, ohne Anmeldung\, herzlich willkommen! \n\n\n\n\n\n\n\n\n\n\n\nFritz Julius Traugott flieht 1938 vor der antisemitischen Verfolgung in die USA. Als US-Soldat kehrt er nach Deutschland zurück. In Berlin ist er mit einer Einheit sogenannter Ritchie Boys ausgerechnet im ehemaligen Gästehaus der SS untergebracht\, dem Ort der damals noch nicht bekannten Wannsee-Konferenz. Ritchie Boys sind US-Soldaten\, die wegen ihrer muttersprachlichen Deutschkenntnisse für Verhöre von Kriegsgefangenen und Kriegsverbrechern ausgebildet werden. \nSeiner Frau Lucia schickt er fast täglich Fotos und Briefe aus der Wannsee-Villa\, unter anderem auf Papier aus der “Adjutantur des Führers”\, das er in der Reichskanzlei findet. Die erstmals veröffentlichten Dokumente sowie die Fotografien\, die Fritz Traugott vor Ort macht\, sind Kern der Ausstellung. \nJudith Alberth\, die mit unserer Direktorin Deborah Hartmann die Ausstellung kuratiert hat\, stellt sie Ihnen vor: kostenfrei\, ohne Anmeldung\, herzlich willkommen. \n\n\n\n\n\n\n\n\n\n\n  Mehr Informationen zur Ausstellung  auf unserer Webseite \n\n\n\n\n\n\n\nWo?Gedenk- und Bildungsstätte Haus der Wannsee-Konferenz\, Am Großen Wannsee 56-58\, 14109 Berlin \nTreffpunkt: im Haupthaus am Empfang \n\nWann?13. Dezember 2025\, 13 Uhr \n\nWie?Kostenfrei\, ohne Anmeldung\, herzlich willkommen!
URL:https://www.orte-der-erinnerung.de/veranstaltung/fuehrung-on-the-roof-of-himmlers-guesthouse-2/
LOCATION:Gedenk- und Bildungsstätte Haus der Wannsee-Konferenz\, Am Großen Wannsee 56-58\, Berlin\, 14109
CATEGORIES:Führung
ORGANIZER;CN="Gedenk- und Bildungsst%C3%A4tte Haus der Wannsee-Konferenz":MAILTO:office@ghwk.de
GEO:52.43233;13.16635
X-APPLE-STRUCTURED-LOCATION;VALUE=URI;X-ADDRESS=Gedenk- und Bildungsstätte Haus der Wannsee-Konferenz Am Großen Wannsee 56-58 Berlin 14109;X-APPLE-RADIUS=500;X-TITLE=Am Großen Wannsee 56-58:geo:13.16635,52.43233
END:VEVENT
END:VCALENDAR