    BEGIN:VCALENDAR
VERSION:2.0
PRODID:-//Orte der Erinnerung 1933 - 1945 - ECPv6.15.11//NONSGML v1.0//EN
CALSCALE:GREGORIAN
METHOD:PUBLISH
X-WR-CALNAME:Orte der Erinnerung 1933 - 1945
X-ORIGINAL-URL:https://www.orte-der-erinnerung.de
X-WR-CALDESC:Veranstaltungen für Orte der Erinnerung 1933 - 1945
REFRESH-INTERVAL;VALUE=DURATION:PT1H
X-Robots-Tag:noindex
X-PUBLISHED-TTL:PT1H
BEGIN:VTIMEZONE
TZID:Europe/Berlin
BEGIN:DAYLIGHT
TZOFFSETFROM:+0100
TZOFFSETTO:+0200
TZNAME:CEST
DTSTART:20250330T010000
END:DAYLIGHT
BEGIN:STANDARD
TZOFFSETFROM:+0200
TZOFFSETTO:+0100
TZNAME:CET
DTSTART:20251026T010000
END:STANDARD
BEGIN:DAYLIGHT
TZOFFSETFROM:+0100
TZOFFSETTO:+0200
TZNAME:CEST
DTSTART:20260329T010000
END:DAYLIGHT
BEGIN:STANDARD
TZOFFSETFROM:+0200
TZOFFSETTO:+0100
TZNAME:CET
DTSTART:20261025T010000
END:STANDARD
BEGIN:DAYLIGHT
TZOFFSETFROM:+0100
TZOFFSETTO:+0200
TZNAME:CEST
DTSTART:20270328T010000
END:DAYLIGHT
BEGIN:STANDARD
TZOFFSETFROM:+0200
TZOFFSETTO:+0100
TZNAME:CET
DTSTART:20271031T010000
END:STANDARD
END:VTIMEZONE
BEGIN:VEVENT
DTSTART;TZID=Europe/Berlin:20260210T180000
DTEND;TZID=Europe/Berlin:20260210T200000
DTSTAMP:20260421T195833
CREATED:20260128T130834Z
LAST-MODIFIED:20260128T130834Z
UID:8354-1770746400-1770753600@www.orte-der-erinnerung.de
SUMMARY:Berliner Dokumentarfilmpremiere »LE PROJET« mit anschließendem Q&A
DESCRIPTION:Programm: \nFilmpremiere: »Le projet« (Film in franzsösischer Sprache\, mit deutschen Untertiteln)\nDikussionsrunde: Izio Rosenman\, Überlebender\, Margaux Chouraqui (Regisseurin des Films)\, Kamel Chabane\, Lehrer und Mitwirkender des Films\, und Dr. Ulrich Baumann\, stellvertretender Direrktor der Stiftung Denkmal \nZum Film: \nIzio Rosenman\, polnischer Jude\, war als Kind Überlebender des Konzentrationslagers Buchenwald\, und lebt seit 1953 im 13. Viertel in Paris.\nNach seiner Begegnung mit Kamel Chabane – einem Kind des Viertels\, der Historiker wurde\, um das tragische Verschwinden seines Vaters zu verstehen\, eines Wehrpflichtigen im Algerienkrieg – beschließt Izio Rosenman\, sich am Projekt einer neunten Klasse des Collège Flaubert zu beteiligen. Zum ersten Mal in seinem Leben legt er vor Schülerinnen und Schülern Zeugnis ab. \nGemeinsam reisen sie nach Buchenwald\, wo Izio Rosenman von seiner Erfahrung als Kind vom Ghetto bis zum Lager berichtet\, gefilmt von Jugendlichen\, die ungefähr das Alter haben\, das er während des Zweiten Weltkriegs hatte. Durch diese initiatische Reise vermitteln Izio und Kamel einer neuen Generation von Schülerinnen und Schülern mit Migrationsgeschichte die inneren Beweggründe ihres Engagements gegen jede Form von Intoleranz. Eine Erinnerungsarbeit\, um  Gemeinschaft zu schaffen. Ein Impfstoff gegen das Gift des Hasses. Eine Hymne auf das Leben und die Zukunft. \n\n\n\n\n\n\n\n\n\n\n\n\n\n\n\n\n\n\n\nEintritt: 11\,00€ für Erwachsende\, Tickets erhältlich beim City Kino Wedding  \nSchüler/-innen: Eintritt frei (bei Anmeldung im City Kino Wedding) oder unter: dana@citykinowedding.de  \n\n\n\n\n\n\n\n\nEine Kooperationsveranstaltung der Stiftung Denkmal für die ermordeten Juden Europas – in Zusammenarbeit mit der französischen Botschaft in Berlin\, dem City Kino Wedding\, dem Institut Français Berlin\, dem Centre Français de Berlin\, und der Schwarzkopf Stiftung Junges Europa 
URL:https://www.orte-der-erinnerung.de/veranstaltung/berliner-dokumentarfilmpremiere-le-projet-mit-anschliessendem-qa/
LOCATION:City Kino Wedding\, Müllerstraße 74\, 13349 Berlin
ORGANIZER;CN="Stiftung Denkmal f%C3%BCr die ermordeten Juden Europas":MAILTO:veranstaltungen@stiftung-denkmal.de
GEO:52.5583892;13.3391116
X-APPLE-STRUCTURED-LOCATION;VALUE=URI;X-ADDRESS=City Kino Wedding Müllerstraße 74 13349 Berlin;X-APPLE-RADIUS=500;X-TITLE=Müllerstraße 74\, 13349 Berlin:geo:13.3391116,52.5583892
END:VEVENT
END:VCALENDAR