    BEGIN:VCALENDAR
VERSION:2.0
PRODID:-//Orte der Erinnerung 1933 - 1945 - ECPv6.15.11//NONSGML v1.0//EN
CALSCALE:GREGORIAN
METHOD:PUBLISH
X-ORIGINAL-URL:https://www.orte-der-erinnerung.de
X-WR-CALDESC:Veranstaltungen für Orte der Erinnerung 1933 - 1945
REFRESH-INTERVAL;VALUE=DURATION:PT1H
X-Robots-Tag:noindex
X-PUBLISHED-TTL:PT1H
BEGIN:VTIMEZONE
TZID:Europe/Berlin
BEGIN:DAYLIGHT
TZOFFSETFROM:+0100
TZOFFSETTO:+0200
TZNAME:CEST
DTSTART:20180325T010000
END:DAYLIGHT
BEGIN:STANDARD
TZOFFSETFROM:+0200
TZOFFSETTO:+0100
TZNAME:CET
DTSTART:20181028T010000
END:STANDARD
BEGIN:DAYLIGHT
TZOFFSETFROM:+0100
TZOFFSETTO:+0200
TZNAME:CEST
DTSTART:20190331T010000
END:DAYLIGHT
BEGIN:STANDARD
TZOFFSETFROM:+0200
TZOFFSETTO:+0100
TZNAME:CET
DTSTART:20191027T010000
END:STANDARD
BEGIN:DAYLIGHT
TZOFFSETFROM:+0100
TZOFFSETTO:+0200
TZNAME:CEST
DTSTART:20200329T010000
END:DAYLIGHT
BEGIN:STANDARD
TZOFFSETFROM:+0200
TZOFFSETTO:+0100
TZNAME:CET
DTSTART:20201025T010000
END:STANDARD
END:VTIMEZONE
BEGIN:VEVENT
DTSTART;TZID=Europe/Berlin:20190915T170000
DTEND;TZID=Europe/Berlin:20190915T170000
DTSTAMP:20260420T124805
CREATED:20190712T114208Z
LAST-MODIFIED:20190712T114208Z
UID:4226-1568566800-1568566800@www.orte-der-erinnerung.de
SUMMARY:„Ihre Stimme ruft - vertonte Gebete von Frauen“
DESCRIPTION:Gesang: Kantorin Mimi Sheffer\nOrgel: Mirlan Kasymaliev \nKurzbiographie Mimi Sheffer \nDie in Israel geborene und aufgewachsene Sopranistin und Kantorin Mimi Sheffer hat in Jerusalem ein Flötenstudium absolviert\, an das sich bei Tamar Rachum in Tel Aviv ein klassisches Gesangsstudium anschloss. Ihre Gesangsausbildung setzte sie bei Joan Caplan in New York fort. Aufgewachsen in einer jüdisch-orthodoxen Familie lagen ihr die hochemotionalen kantoralen Gesänge immer sehr am Herzen und so überrascht es nicht\, dass sie während ihrer Gesangsausbildung hauptamtliche Kantorin an der West End Synagoge (New York) und dem Temple Emanuel (West Hartford\, Connecticut) wurde. \nInzwischen lebt Sheffer in Berlin\, wo sie immer wieder deutschlandweit als Kantorin amtiert. Mimi Sheffer war von 2003 bis 2010 Dozentin am Rabbinerseminar Abraham Geiger Kolleg in Potsdam und dort von 2007 bis 2010 Gründerin und Direktorin des Jewish Institute of Cantorial Arts. Das Institut bildet Kantoren für Jüdische Gemeinden aus. \nSheffer wurde bei zahlreichen Wettbewerben der Rubin Academy Tel Aviv ausgezeichnet\, gewann den Kol Israel Wettbewerb (Israel National Radio) und wirkte als Sängerin in verschiedenen Opernproduktionen und Festivals mit. Sie stand in der Berliner Philharmonie und dem Konzerthaus auf der Bühne\, eröffnete die Jüdischen Kulturtage Berlin und war Teilnehmerin der Kulturhauptstadt Ruhr 2010. \nDarüber hinaus widmet sich die stimmgewaltige Sopranistin in ihren Konzerten der Wiederbelebung Jüdischer Musik in Europa und der Förderung des interkulturellen Dialoges. Ihr musikalisches Engagement gilt vor allem Jüdischen Komponisten Europas\, deren große Zeit vor dem Zweiten Weltkrieg war und deren Repertoire dann – sofern sie der Shoah entfliehen konnten – von ihrer neuen Heimat inspiriert worden ist. Sheffer will klassischer Musik mit Jüdischen Wurzeln zu einem festen Bestandteil europäischer Konzertprogramme machen\, dabei reicht ihr musikalisches Spektrum vom kantoralen Gesang über Kammermusik bis hin zum Orchester Repertoire. \nFreier Eintritt. Um eine Spende wird gebeten. \nEine Veranstaltung in Zusammenarbeit mit der Gedenkstätte Ravensbrück/Stiftung Brandenburgische Gedenkstätten \nVeranstaltungsort\nEv.-Luth. Stadtkirche\, 16798 Fürstenberg/Havel
URL:https://www.orte-der-erinnerung.de/veranstaltung/ihre-stimme-ruft-vertonte-gebete-von-frauen/
LOCATION:Ev.-Luth. Stadtkirche\, 16798 Fürstenberg/Havel\, Deutschland
CATEGORIES:Konzert
ORGANIZER;CN="Mahn- und Gedenkst%C3%A4tte Ravensbr%C3%BCck":MAILTO:info@ravensbrueck.de
END:VEVENT
END:VCALENDAR