    BEGIN:VCALENDAR
VERSION:2.0
PRODID:-//Orte der Erinnerung 1933 - 1945 - ECPv6.15.11//NONSGML v1.0//EN
CALSCALE:GREGORIAN
METHOD:PUBLISH
X-WR-CALNAME:Orte der Erinnerung 1933 - 1945
X-ORIGINAL-URL:https://www.orte-der-erinnerung.de
X-WR-CALDESC:Veranstaltungen für Orte der Erinnerung 1933 - 1945
REFRESH-INTERVAL;VALUE=DURATION:PT1H
X-Robots-Tag:noindex
X-PUBLISHED-TTL:PT1H
BEGIN:VTIMEZONE
TZID:UTC
BEGIN:STANDARD
TZOFFSETFROM:+0000
TZOFFSETTO:+0000
TZNAME:UTC
DTSTART:20170101T000000
END:STANDARD
END:VTIMEZONE
BEGIN:VEVENT
DTSTART;TZID=UTC:20180522T180000
DTEND;TZID=UTC:20180522T180000
DTSTAMP:20260421T123319
CREATED:20180515T121915Z
LAST-MODIFIED:20180515T121915Z
UID:2328-1527012000-1527012000@www.orte-der-erinnerung.de
SUMMARY:KZ-Terror im »Westen«. Die Konzentrationslager Herzogenbusch\, Mauthausen\, Natzweiler
DESCRIPTION:Von der Inspektion der Konzentrationslager in Oranienburg wurden alle Haupt- und Nebenlager des KZ-Systems verwaltet. Die Ausstellung am historischen Ort zeigt den Einfluss der KZ-Inspektion auf die drei im »Westen« liegenden Konzentrationslager Herzogenbusch \, Mauthausen und Natzweiler.\nDie an diesen Orten entstandenen Gedenkstätten befinden sich außerhalb der Bundesrepublik Deutschland und werden von der niederländischen Stadt Vught sowie den Regierungen in Österreich und Frankreich betreut. Die Ausstellung ist ein Kooperationsprojekt der Gedenkstätte und Museum Sachsenhausen mit den genannten Einrichtungen. Sie wurde finanziert aus Spenden der Gedenkstättenbesucher\, Mitteln der Stiftung Brandenburgische Gedenkstätten sowie aus Fördermitteln von »Kulturland Brandenburg«. \n  \nBegrüßung und Einführung\nProf. Dr. Günter Morsch\, Direktor der Stiftung Brandenburgische Gedenkstätten \nAnsprachen\n– Christian Görke\, Stellvertretender Ministerpräsident des Landes Brandenburg\n– Brigitte Faber-Schmidt\, Geschäftsführerin Kulturland Brandenburg\n– Grußworte aus den KZ-Gedenkstätten Herzogenbusch\, Mauthausen\, Natzweiler-Struthof \n  \nMehr Informationen zur neuen Dauerausstellung KZ-Terror im »Westen«. Die Konzentrationslager Herzogenbusch\, Mauthausen\, Natzweiler finden Sie hier.
URL:https://www.orte-der-erinnerung.de/veranstaltung/kz-terror-im-westen-die-konzentrationslager-herzogenbusch-mauthausen-natzweiler/
LOCATION:Heinrich-Grüber-Platz\, Heinrich-Grüber-Platz\, Oranienburg\, 16515
CATEGORIES:Ausstellungseröffnung
ORGANIZER;CN="Gedenkst%C3%A4tte und Museum Sachsenhausen":MAILTO:besucherdienst@gedenkstaette-sachsenhausen.de
END:VEVENT
END:VCALENDAR